BEGIN:VCALENDAR
VERSION:2.0
PRODID:-//Downtown Rogers City - ECPv6.15.20//NONSGML v1.0//EN
CALSCALE:GREGORIAN
METHOD:PUBLISH
X-WR-CALNAME:Downtown Rogers City
X-ORIGINAL-URL:https://rcms.mcgwebdevelopment.com
X-WR-CALDESC:Events for Downtown Rogers City
REFRESH-INTERVAL;VALUE=DURATION:PT1H
X-Robots-Tag:noindex
X-PUBLISHED-TTL:PT1H
BEGIN:VTIMEZONE
TZID:America/Detroit
BEGIN:DAYLIGHT
TZOFFSETFROM:-0500
TZOFFSETTO:-0400
TZNAME:EDT
DTSTART:20260308T070000
END:DAYLIGHT
BEGIN:STANDARD
TZOFFSETFROM:-0400
TZOFFSETTO:-0500
TZNAME:EST
DTSTART:20261101T060000
END:STANDARD
BEGIN:DAYLIGHT
TZOFFSETFROM:-0500
TZOFFSETTO:-0400
TZNAME:EDT
DTSTART:20270314T070000
END:DAYLIGHT
BEGIN:STANDARD
TZOFFSETFROM:-0400
TZOFFSETTO:-0500
TZNAME:EST
DTSTART:20271107T060000
END:STANDARD
BEGIN:DAYLIGHT
TZOFFSETFROM:-0500
TZOFFSETTO:-0400
TZNAME:EDT
DTSTART:20280312T070000
END:DAYLIGHT
BEGIN:STANDARD
TZOFFSETFROM:-0400
TZOFFSETTO:-0500
TZNAME:EST
DTSTART:20281105T060000
END:STANDARD
END:VTIMEZONE
BEGIN:VEVENT
DTSTART;TZID=America/Detroit:20270322T180000
DTEND;TZID=America/Detroit:20270322T180000
DTSTAMP:20260420T092022
CREATED:20260122T234359Z
LAST-MODIFIED:20260122T234359Z
UID:10000640-1805738400-1805738400@rcms.mcgwebdevelopment.com
SUMMARY:Cornhole
DESCRIPTION:Head to the VFW Post 607 for Cornhole! It will be held every Monday during the winter months starting at 6 p.m. Cornhole will take place in the upstairs hall.
URL:https://rcms.mcgwebdevelopment.com/event/cornhole/2027-03-22/
LOCATION:VFW Post 607\, 1316 W 3rd St\, Rogers City\, 49779\, United States
CATEGORIES:Events
ATTACH;FMTTYPE=image/webp:https://rcms.mcgwebdevelopment.com/wp-content/media/Cornhole.webp
END:VEVENT
BEGIN:VEVENT
DTSTART;TZID=America/Detroit:20270329T180000
DTEND;TZID=America/Detroit:20270329T180000
DTSTAMP:20260420T092022
CREATED:20260122T234359Z
LAST-MODIFIED:20260122T234359Z
UID:10000641-1806343200-1806343200@rcms.mcgwebdevelopment.com
SUMMARY:Cornhole
DESCRIPTION:Head to the VFW Post 607 for Cornhole! It will be held every Monday during the winter months starting at 6 p.m. Cornhole will take place in the upstairs hall.
URL:https://rcms.mcgwebdevelopment.com/event/cornhole/2027-03-29/
LOCATION:VFW Post 607\, 1316 W 3rd St\, Rogers City\, 49779\, United States
CATEGORIES:Events
ATTACH;FMTTYPE=image/webp:https://rcms.mcgwebdevelopment.com/wp-content/media/Cornhole.webp
END:VEVENT
BEGIN:VEVENT
DTSTART;TZID=America/Detroit:20270405T180000
DTEND;TZID=America/Detroit:20270405T180000
DTSTAMP:20260420T092022
CREATED:20260122T234359Z
LAST-MODIFIED:20260122T234359Z
UID:10000642-1806948000-1806948000@rcms.mcgwebdevelopment.com
SUMMARY:Cornhole
DESCRIPTION:Head to the VFW Post 607 for Cornhole! It will be held every Monday during the winter months starting at 6 p.m. Cornhole will take place in the upstairs hall.
URL:https://rcms.mcgwebdevelopment.com/event/cornhole/2027-04-05/
LOCATION:VFW Post 607\, 1316 W 3rd St\, Rogers City\, 49779\, United States
CATEGORIES:Events
ATTACH;FMTTYPE=image/webp:https://rcms.mcgwebdevelopment.com/wp-content/media/Cornhole.webp
END:VEVENT
BEGIN:VEVENT
DTSTART;TZID=America/Detroit:20270412T180000
DTEND;TZID=America/Detroit:20270412T180000
DTSTAMP:20260420T092022
CREATED:20260122T234359Z
LAST-MODIFIED:20260122T234359Z
UID:10000643-1807552800-1807552800@rcms.mcgwebdevelopment.com
SUMMARY:Cornhole
DESCRIPTION:Head to the VFW Post 607 for Cornhole! It will be held every Monday during the winter months starting at 6 p.m. Cornhole will take place in the upstairs hall.
URL:https://rcms.mcgwebdevelopment.com/event/cornhole/2027-04-12/
LOCATION:VFW Post 607\, 1316 W 3rd St\, Rogers City\, 49779\, United States
CATEGORIES:Events
ATTACH;FMTTYPE=image/webp:https://rcms.mcgwebdevelopment.com/wp-content/media/Cornhole.webp
END:VEVENT
BEGIN:VEVENT
DTSTART;TZID=America/Detroit:20270419T180000
DTEND;TZID=America/Detroit:20270419T180000
DTSTAMP:20260420T092022
CREATED:20260122T234359Z
LAST-MODIFIED:20260122T234359Z
UID:10000644-1808157600-1808157600@rcms.mcgwebdevelopment.com
SUMMARY:Cornhole
DESCRIPTION:Head to the VFW Post 607 for Cornhole! It will be held every Monday during the winter months starting at 6 p.m. Cornhole will take place in the upstairs hall.
URL:https://rcms.mcgwebdevelopment.com/event/cornhole/2027-04-19/
LOCATION:VFW Post 607\, 1316 W 3rd St\, Rogers City\, 49779\, United States
CATEGORIES:Events
ATTACH;FMTTYPE=image/webp:https://rcms.mcgwebdevelopment.com/wp-content/media/Cornhole.webp
END:VEVENT
BEGIN:VEVENT
DTSTART;TZID=America/Detroit:20270426T180000
DTEND;TZID=America/Detroit:20270426T180000
DTSTAMP:20260420T092022
CREATED:20260122T234359Z
LAST-MODIFIED:20260122T234359Z
UID:10000645-1808762400-1808762400@rcms.mcgwebdevelopment.com
SUMMARY:Cornhole
DESCRIPTION:Head to the VFW Post 607 for Cornhole! It will be held every Monday during the winter months starting at 6 p.m. Cornhole will take place in the upstairs hall.
URL:https://rcms.mcgwebdevelopment.com/event/cornhole/2027-04-26/
LOCATION:VFW Post 607\, 1316 W 3rd St\, Rogers City\, 49779\, United States
CATEGORIES:Events
ATTACH;FMTTYPE=image/webp:https://rcms.mcgwebdevelopment.com/wp-content/media/Cornhole.webp
END:VEVENT
END:VCALENDAR