BEGIN:VCALENDAR
VERSION:2.0
PRODID:-//Downtown Rogers City - ECPv6.15.20//NONSGML v1.0//EN
CALSCALE:GREGORIAN
METHOD:PUBLISH
X-ORIGINAL-URL:https://rcms.mcgwebdevelopment.com
X-WR-CALDESC:Events for Downtown Rogers City
REFRESH-INTERVAL;VALUE=DURATION:PT1H
X-Robots-Tag:noindex
X-PUBLISHED-TTL:PT1H
BEGIN:VTIMEZONE
TZID:America/Detroit
BEGIN:DAYLIGHT
TZOFFSETFROM:-0500
TZOFFSETTO:-0400
TZNAME:EDT
DTSTART:20250309T070000
END:DAYLIGHT
BEGIN:STANDARD
TZOFFSETFROM:-0400
TZOFFSETTO:-0500
TZNAME:EST
DTSTART:20251102T060000
END:STANDARD
BEGIN:DAYLIGHT
TZOFFSETFROM:-0500
TZOFFSETTO:-0400
TZNAME:EDT
DTSTART:20260308T070000
END:DAYLIGHT
BEGIN:STANDARD
TZOFFSETFROM:-0400
TZOFFSETTO:-0500
TZNAME:EST
DTSTART:20261101T060000
END:STANDARD
BEGIN:DAYLIGHT
TZOFFSETFROM:-0500
TZOFFSETTO:-0400
TZNAME:EDT
DTSTART:20270314T070000
END:DAYLIGHT
BEGIN:STANDARD
TZOFFSETFROM:-0400
TZOFFSETTO:-0500
TZNAME:EST
DTSTART:20271107T060000
END:STANDARD
BEGIN:DAYLIGHT
TZOFFSETFROM:-0500
TZOFFSETTO:-0400
TZNAME:EDT
DTSTART:20280312T070000
END:DAYLIGHT
BEGIN:STANDARD
TZOFFSETFROM:-0400
TZOFFSETTO:-0500
TZNAME:EST
DTSTART:20281105T060000
END:STANDARD
END:VTIMEZONE
BEGIN:VEVENT
DTSTART;TZID=America/Detroit:20261228T180000
DTEND;TZID=America/Detroit:20261228T180000
DTSTAMP:20260420T075538
CREATED:20260122T234359Z
LAST-MODIFIED:20260122T234359Z
UID:10000628-1798480800-1798480800@rcms.mcgwebdevelopment.com
SUMMARY:Cornhole
DESCRIPTION:Head to the VFW Post 607 for Cornhole! It will be held every Monday during the winter months starting at 6 p.m. Cornhole will take place in the upstairs hall.
URL:https://rcms.mcgwebdevelopment.com/event/cornhole/2026-12-28/
LOCATION:VFW Post 607\, 1316 W 3rd St\, Rogers City\, 49779\, United States
CATEGORIES:Events
ATTACH;FMTTYPE=image/webp:https://rcms.mcgwebdevelopment.com/wp-content/media/Cornhole.webp
END:VEVENT
BEGIN:VEVENT
DTSTART;TZID=America/Detroit:20270104T180000
DTEND;TZID=America/Detroit:20270104T180000
DTSTAMP:20260420T075538
CREATED:20260122T234359Z
LAST-MODIFIED:20260122T234359Z
UID:10000629-1799085600-1799085600@rcms.mcgwebdevelopment.com
SUMMARY:Cornhole
DESCRIPTION:Head to the VFW Post 607 for Cornhole! It will be held every Monday during the winter months starting at 6 p.m. Cornhole will take place in the upstairs hall.
URL:https://rcms.mcgwebdevelopment.com/event/cornhole/2027-01-04/
LOCATION:VFW Post 607\, 1316 W 3rd St\, Rogers City\, 49779\, United States
CATEGORIES:Events
ATTACH;FMTTYPE=image/webp:https://rcms.mcgwebdevelopment.com/wp-content/media/Cornhole.webp
END:VEVENT
BEGIN:VEVENT
DTSTART;TZID=America/Detroit:20270111T180000
DTEND;TZID=America/Detroit:20270111T180000
DTSTAMP:20260420T075538
CREATED:20260122T234359Z
LAST-MODIFIED:20260122T234359Z
UID:10000630-1799690400-1799690400@rcms.mcgwebdevelopment.com
SUMMARY:Cornhole
DESCRIPTION:Head to the VFW Post 607 for Cornhole! It will be held every Monday during the winter months starting at 6 p.m. Cornhole will take place in the upstairs hall.
URL:https://rcms.mcgwebdevelopment.com/event/cornhole/2027-01-11/
LOCATION:VFW Post 607\, 1316 W 3rd St\, Rogers City\, 49779\, United States
CATEGORIES:Events
ATTACH;FMTTYPE=image/webp:https://rcms.mcgwebdevelopment.com/wp-content/media/Cornhole.webp
END:VEVENT
BEGIN:VEVENT
DTSTART;TZID=America/Detroit:20270118T180000
DTEND;TZID=America/Detroit:20270118T180000
DTSTAMP:20260420T075538
CREATED:20260122T234359Z
LAST-MODIFIED:20260122T234359Z
UID:10000631-1800295200-1800295200@rcms.mcgwebdevelopment.com
SUMMARY:Cornhole
DESCRIPTION:Head to the VFW Post 607 for Cornhole! It will be held every Monday during the winter months starting at 6 p.m. Cornhole will take place in the upstairs hall.
URL:https://rcms.mcgwebdevelopment.com/event/cornhole/2027-01-18/
LOCATION:VFW Post 607\, 1316 W 3rd St\, Rogers City\, 49779\, United States
CATEGORIES:Events
ATTACH;FMTTYPE=image/webp:https://rcms.mcgwebdevelopment.com/wp-content/media/Cornhole.webp
END:VEVENT
BEGIN:VEVENT
DTSTART;TZID=America/Detroit:20270125T180000
DTEND;TZID=America/Detroit:20270125T180000
DTSTAMP:20260420T075538
CREATED:20260122T234359Z
LAST-MODIFIED:20260122T234359Z
UID:10000632-1800900000-1800900000@rcms.mcgwebdevelopment.com
SUMMARY:Cornhole
DESCRIPTION:Head to the VFW Post 607 for Cornhole! It will be held every Monday during the winter months starting at 6 p.m. Cornhole will take place in the upstairs hall.
URL:https://rcms.mcgwebdevelopment.com/event/cornhole/2027-01-25/
LOCATION:VFW Post 607\, 1316 W 3rd St\, Rogers City\, 49779\, United States
CATEGORIES:Events
ATTACH;FMTTYPE=image/webp:https://rcms.mcgwebdevelopment.com/wp-content/media/Cornhole.webp
END:VEVENT
BEGIN:VEVENT
DTSTART;TZID=America/Detroit:20270201T180000
DTEND;TZID=America/Detroit:20270201T180000
DTSTAMP:20260420T075538
CREATED:20260122T234359Z
LAST-MODIFIED:20260122T234359Z
UID:10000633-1801504800-1801504800@rcms.mcgwebdevelopment.com
SUMMARY:Cornhole
DESCRIPTION:Head to the VFW Post 607 for Cornhole! It will be held every Monday during the winter months starting at 6 p.m. Cornhole will take place in the upstairs hall.
URL:https://rcms.mcgwebdevelopment.com/event/cornhole/2027-02-01/
LOCATION:VFW Post 607\, 1316 W 3rd St\, Rogers City\, 49779\, United States
CATEGORIES:Events
ATTACH;FMTTYPE=image/webp:https://rcms.mcgwebdevelopment.com/wp-content/media/Cornhole.webp
END:VEVENT
BEGIN:VEVENT
DTSTART;TZID=America/Detroit:20270208T180000
DTEND;TZID=America/Detroit:20270208T180000
DTSTAMP:20260420T075538
CREATED:20260122T234359Z
LAST-MODIFIED:20260122T234359Z
UID:10000634-1802109600-1802109600@rcms.mcgwebdevelopment.com
SUMMARY:Cornhole
DESCRIPTION:Head to the VFW Post 607 for Cornhole! It will be held every Monday during the winter months starting at 6 p.m. Cornhole will take place in the upstairs hall.
URL:https://rcms.mcgwebdevelopment.com/event/cornhole/2027-02-08/
LOCATION:VFW Post 607\, 1316 W 3rd St\, Rogers City\, 49779\, United States
CATEGORIES:Events
ATTACH;FMTTYPE=image/webp:https://rcms.mcgwebdevelopment.com/wp-content/media/Cornhole.webp
END:VEVENT
BEGIN:VEVENT
DTSTART;TZID=America/Detroit:20270215T180000
DTEND;TZID=America/Detroit:20270215T180000
DTSTAMP:20260420T075538
CREATED:20260122T234359Z
LAST-MODIFIED:20260122T234359Z
UID:10000635-1802714400-1802714400@rcms.mcgwebdevelopment.com
SUMMARY:Cornhole
DESCRIPTION:Head to the VFW Post 607 for Cornhole! It will be held every Monday during the winter months starting at 6 p.m. Cornhole will take place in the upstairs hall.
URL:https://rcms.mcgwebdevelopment.com/event/cornhole/2027-02-15/
LOCATION:VFW Post 607\, 1316 W 3rd St\, Rogers City\, 49779\, United States
CATEGORIES:Events
ATTACH;FMTTYPE=image/webp:https://rcms.mcgwebdevelopment.com/wp-content/media/Cornhole.webp
END:VEVENT
BEGIN:VEVENT
DTSTART;TZID=America/Detroit:20270222T180000
DTEND;TZID=America/Detroit:20270222T180000
DTSTAMP:20260420T075538
CREATED:20260122T234359Z
LAST-MODIFIED:20260122T234359Z
UID:10000636-1803319200-1803319200@rcms.mcgwebdevelopment.com
SUMMARY:Cornhole
DESCRIPTION:Head to the VFW Post 607 for Cornhole! It will be held every Monday during the winter months starting at 6 p.m. Cornhole will take place in the upstairs hall.
URL:https://rcms.mcgwebdevelopment.com/event/cornhole/2027-02-22/
LOCATION:VFW Post 607\, 1316 W 3rd St\, Rogers City\, 49779\, United States
CATEGORIES:Events
ATTACH;FMTTYPE=image/webp:https://rcms.mcgwebdevelopment.com/wp-content/media/Cornhole.webp
END:VEVENT
BEGIN:VEVENT
DTSTART;TZID=America/Detroit:20270301T180000
DTEND;TZID=America/Detroit:20270301T180000
DTSTAMP:20260420T075538
CREATED:20260122T234359Z
LAST-MODIFIED:20260122T234359Z
UID:10000637-1803924000-1803924000@rcms.mcgwebdevelopment.com
SUMMARY:Cornhole
DESCRIPTION:Head to the VFW Post 607 for Cornhole! It will be held every Monday during the winter months starting at 6 p.m. Cornhole will take place in the upstairs hall.
URL:https://rcms.mcgwebdevelopment.com/event/cornhole/2027-03-01/
LOCATION:VFW Post 607\, 1316 W 3rd St\, Rogers City\, 49779\, United States
CATEGORIES:Events
ATTACH;FMTTYPE=image/webp:https://rcms.mcgwebdevelopment.com/wp-content/media/Cornhole.webp
END:VEVENT
BEGIN:VEVENT
DTSTART;TZID=America/Detroit:20270308T180000
DTEND;TZID=America/Detroit:20270308T180000
DTSTAMP:20260420T075538
CREATED:20260122T234359Z
LAST-MODIFIED:20260122T234359Z
UID:10000638-1804528800-1804528800@rcms.mcgwebdevelopment.com
SUMMARY:Cornhole
DESCRIPTION:Head to the VFW Post 607 for Cornhole! It will be held every Monday during the winter months starting at 6 p.m. Cornhole will take place in the upstairs hall.
URL:https://rcms.mcgwebdevelopment.com/event/cornhole/2027-03-08/
LOCATION:VFW Post 607\, 1316 W 3rd St\, Rogers City\, 49779\, United States
CATEGORIES:Events
ATTACH;FMTTYPE=image/webp:https://rcms.mcgwebdevelopment.com/wp-content/media/Cornhole.webp
END:VEVENT
BEGIN:VEVENT
DTSTART;TZID=America/Detroit:20270315T180000
DTEND;TZID=America/Detroit:20270315T180000
DTSTAMP:20260420T075538
CREATED:20260122T234359Z
LAST-MODIFIED:20260122T234359Z
UID:10000639-1805133600-1805133600@rcms.mcgwebdevelopment.com
SUMMARY:Cornhole
DESCRIPTION:Head to the VFW Post 607 for Cornhole! It will be held every Monday during the winter months starting at 6 p.m. Cornhole will take place in the upstairs hall.
URL:https://rcms.mcgwebdevelopment.com/event/cornhole/2027-03-15/
LOCATION:VFW Post 607\, 1316 W 3rd St\, Rogers City\, 49779\, United States
CATEGORIES:Events
ATTACH;FMTTYPE=image/webp:https://rcms.mcgwebdevelopment.com/wp-content/media/Cornhole.webp
END:VEVENT
BEGIN:VEVENT
DTSTART;TZID=America/Detroit:20270322T180000
DTEND;TZID=America/Detroit:20270322T180000
DTSTAMP:20260420T075538
CREATED:20260122T234359Z
LAST-MODIFIED:20260122T234359Z
UID:10000640-1805738400-1805738400@rcms.mcgwebdevelopment.com
SUMMARY:Cornhole
DESCRIPTION:Head to the VFW Post 607 for Cornhole! It will be held every Monday during the winter months starting at 6 p.m. Cornhole will take place in the upstairs hall.
URL:https://rcms.mcgwebdevelopment.com/event/cornhole/2027-03-22/
LOCATION:VFW Post 607\, 1316 W 3rd St\, Rogers City\, 49779\, United States
CATEGORIES:Events
ATTACH;FMTTYPE=image/webp:https://rcms.mcgwebdevelopment.com/wp-content/media/Cornhole.webp
END:VEVENT
BEGIN:VEVENT
DTSTART;TZID=America/Detroit:20270329T180000
DTEND;TZID=America/Detroit:20270329T180000
DTSTAMP:20260420T075538
CREATED:20260122T234359Z
LAST-MODIFIED:20260122T234359Z
UID:10000641-1806343200-1806343200@rcms.mcgwebdevelopment.com
SUMMARY:Cornhole
DESCRIPTION:Head to the VFW Post 607 for Cornhole! It will be held every Monday during the winter months starting at 6 p.m. Cornhole will take place in the upstairs hall.
URL:https://rcms.mcgwebdevelopment.com/event/cornhole/2027-03-29/
LOCATION:VFW Post 607\, 1316 W 3rd St\, Rogers City\, 49779\, United States
CATEGORIES:Events
ATTACH;FMTTYPE=image/webp:https://rcms.mcgwebdevelopment.com/wp-content/media/Cornhole.webp
END:VEVENT
BEGIN:VEVENT
DTSTART;TZID=America/Detroit:20270405T180000
DTEND;TZID=America/Detroit:20270405T180000
DTSTAMP:20260420T075538
CREATED:20260122T234359Z
LAST-MODIFIED:20260122T234359Z
UID:10000642-1806948000-1806948000@rcms.mcgwebdevelopment.com
SUMMARY:Cornhole
DESCRIPTION:Head to the VFW Post 607 for Cornhole! It will be held every Monday during the winter months starting at 6 p.m. Cornhole will take place in the upstairs hall.
URL:https://rcms.mcgwebdevelopment.com/event/cornhole/2027-04-05/
LOCATION:VFW Post 607\, 1316 W 3rd St\, Rogers City\, 49779\, United States
CATEGORIES:Events
ATTACH;FMTTYPE=image/webp:https://rcms.mcgwebdevelopment.com/wp-content/media/Cornhole.webp
END:VEVENT
BEGIN:VEVENT
DTSTART;TZID=America/Detroit:20270412T180000
DTEND;TZID=America/Detroit:20270412T180000
DTSTAMP:20260420T075538
CREATED:20260122T234359Z
LAST-MODIFIED:20260122T234359Z
UID:10000643-1807552800-1807552800@rcms.mcgwebdevelopment.com
SUMMARY:Cornhole
DESCRIPTION:Head to the VFW Post 607 for Cornhole! It will be held every Monday during the winter months starting at 6 p.m. Cornhole will take place in the upstairs hall.
URL:https://rcms.mcgwebdevelopment.com/event/cornhole/2027-04-12/
LOCATION:VFW Post 607\, 1316 W 3rd St\, Rogers City\, 49779\, United States
CATEGORIES:Events
ATTACH;FMTTYPE=image/webp:https://rcms.mcgwebdevelopment.com/wp-content/media/Cornhole.webp
END:VEVENT
BEGIN:VEVENT
DTSTART;TZID=America/Detroit:20270419T180000
DTEND;TZID=America/Detroit:20270419T180000
DTSTAMP:20260420T075538
CREATED:20260122T234359Z
LAST-MODIFIED:20260122T234359Z
UID:10000644-1808157600-1808157600@rcms.mcgwebdevelopment.com
SUMMARY:Cornhole
DESCRIPTION:Head to the VFW Post 607 for Cornhole! It will be held every Monday during the winter months starting at 6 p.m. Cornhole will take place in the upstairs hall.
URL:https://rcms.mcgwebdevelopment.com/event/cornhole/2027-04-19/
LOCATION:VFW Post 607\, 1316 W 3rd St\, Rogers City\, 49779\, United States
CATEGORIES:Events
ATTACH;FMTTYPE=image/webp:https://rcms.mcgwebdevelopment.com/wp-content/media/Cornhole.webp
END:VEVENT
BEGIN:VEVENT
DTSTART;TZID=America/Detroit:20270426T180000
DTEND;TZID=America/Detroit:20270426T180000
DTSTAMP:20260420T075538
CREATED:20260122T234359Z
LAST-MODIFIED:20260122T234359Z
UID:10000645-1808762400-1808762400@rcms.mcgwebdevelopment.com
SUMMARY:Cornhole
DESCRIPTION:Head to the VFW Post 607 for Cornhole! It will be held every Monday during the winter months starting at 6 p.m. Cornhole will take place in the upstairs hall.
URL:https://rcms.mcgwebdevelopment.com/event/cornhole/2027-04-26/
LOCATION:VFW Post 607\, 1316 W 3rd St\, Rogers City\, 49779\, United States
CATEGORIES:Events
ATTACH;FMTTYPE=image/webp:https://rcms.mcgwebdevelopment.com/wp-content/media/Cornhole.webp
END:VEVENT
END:VCALENDAR