BEGIN:VCALENDAR
VERSION:2.0
PRODID:-//Downtown Rogers City - ECPv6.15.20//NONSGML v1.0//EN
CALSCALE:GREGORIAN
METHOD:PUBLISH
X-ORIGINAL-URL:https://rcms.mcgwebdevelopment.com
X-WR-CALDESC:Events for Downtown Rogers City
REFRESH-INTERVAL;VALUE=DURATION:PT1H
X-Robots-Tag:noindex
X-PUBLISHED-TTL:PT1H
BEGIN:VTIMEZONE
TZID:America/Detroit
BEGIN:DAYLIGHT
TZOFFSETFROM:-0500
TZOFFSETTO:-0400
TZNAME:EDT
DTSTART:20270314T070000
END:DAYLIGHT
BEGIN:STANDARD
TZOFFSETFROM:-0400
TZOFFSETTO:-0500
TZNAME:EST
DTSTART:20271107T060000
END:STANDARD
BEGIN:DAYLIGHT
TZOFFSETFROM:-0500
TZOFFSETTO:-0400
TZNAME:EDT
DTSTART:20280312T070000
END:DAYLIGHT
BEGIN:STANDARD
TZOFFSETFROM:-0400
TZOFFSETTO:-0500
TZNAME:EST
DTSTART:20281105T060000
END:STANDARD
BEGIN:DAYLIGHT
TZOFFSETFROM:-0500
TZOFFSETTO:-0400
TZNAME:EDT
DTSTART:20290311T070000
END:DAYLIGHT
BEGIN:STANDARD
TZOFFSETFROM:-0400
TZOFFSETTO:-0500
TZNAME:EST
DTSTART:20291104T060000
END:STANDARD
END:VTIMEZONE
BEGIN:VEVENT
DTSTART;TZID=America/Detroit:20280608T164500
DTEND;TZID=America/Detroit:20280608T174500
DTSTAMP:20260425T150359
CREATED:20260123T002100Z
LAST-MODIFIED:20260123T002100Z
UID:10001930-1844095500-1844099100@rcms.mcgwebdevelopment.com
SUMMARY:ZUMBA Gold
DESCRIPTION:Need to shake off the stress? \nStep into happy at the Rogers City Senior Center. Join us for Zumba Gold is on Mondays and Thursdays at 4:45 p.m.
URL:https://rcms.mcgwebdevelopment.com/event/zumba-gold/2028-06-08/
LOCATION:Rogers City Area Senior & Community Center\, 131 Superior St\, Rogers City\, MI\, 49779\, United States
CATEGORIES:Events
ATTACH;FMTTYPE=image/webp:https://rcms.mcgwebdevelopment.com/wp-content/media/ZUMBA.webp
END:VEVENT
BEGIN:VEVENT
DTSTART;TZID=America/Detroit:20280608T174500
DTEND;TZID=America/Detroit:20280608T184500
DTSTAMP:20260425T150359
CREATED:20260122T223659Z
LAST-MODIFIED:20260122T224744Z
UID:10000307-1844099100-1844102700@rcms.mcgwebdevelopment.com
SUMMARY:ZUMBA
DESCRIPTION:Need to shake off the stress? \nStep into happy at the Rogers City Senior Center. Join us for ZUMBA on Mondays and Thursdays at 5:45 p.m.
URL:https://rcms.mcgwebdevelopment.com/event/zumba/2028-06-08/
LOCATION:Rogers City Area Senior & Community Center\, 131 Superior St\, Rogers City\, MI\, 49779\, United States
CATEGORIES:Events
ATTACH;FMTTYPE=image/webp:https://rcms.mcgwebdevelopment.com/wp-content/media/ZUMBA.webp
END:VEVENT
BEGIN:VEVENT
DTSTART;TZID=America/Detroit:20280612T164500
DTEND;TZID=America/Detroit:20280612T174500
DTSTAMP:20260425T150359
CREATED:20260123T002100Z
LAST-MODIFIED:20260123T002100Z
UID:10001931-1844441100-1844444700@rcms.mcgwebdevelopment.com
SUMMARY:ZUMBA Gold
DESCRIPTION:Need to shake off the stress? \nStep into happy at the Rogers City Senior Center. Join us for Zumba Gold is on Mondays and Thursdays at 4:45 p.m.
URL:https://rcms.mcgwebdevelopment.com/event/zumba-gold/2028-06-12/
LOCATION:Rogers City Area Senior & Community Center\, 131 Superior St\, Rogers City\, MI\, 49779\, United States
CATEGORIES:Events
ATTACH;FMTTYPE=image/webp:https://rcms.mcgwebdevelopment.com/wp-content/media/ZUMBA.webp
END:VEVENT
BEGIN:VEVENT
DTSTART;TZID=America/Detroit:20280612T174500
DTEND;TZID=America/Detroit:20280612T184500
DTSTAMP:20260425T150359
CREATED:20260122T223659Z
LAST-MODIFIED:20260122T224744Z
UID:10000308-1844444700-1844448300@rcms.mcgwebdevelopment.com
SUMMARY:ZUMBA
DESCRIPTION:Need to shake off the stress? \nStep into happy at the Rogers City Senior Center. Join us for ZUMBA on Mondays and Thursdays at 5:45 p.m.
URL:https://rcms.mcgwebdevelopment.com/event/zumba/2028-06-12/
LOCATION:Rogers City Area Senior & Community Center\, 131 Superior St\, Rogers City\, MI\, 49779\, United States
CATEGORIES:Events
ATTACH;FMTTYPE=image/webp:https://rcms.mcgwebdevelopment.com/wp-content/media/ZUMBA.webp
END:VEVENT
BEGIN:VEVENT
DTSTART;TZID=America/Detroit:20280614T073000
DTEND;TZID=America/Detroit:20280614T083000
DTSTAMP:20260425T150359
CREATED:20251125T214512Z
LAST-MODIFIED:20251125T214512Z
UID:10000031-1844580600-1844584200@rcms.mcgwebdevelopment.com
SUMMARY:Main Street/DDA Regular Meeting
DESCRIPTION:Occurs on the 2nd Wednesday of each month in the City Hall Chambers.
URL:https://rcms.mcgwebdevelopment.com/event/main-street-dda-regular-meeting/2028-06-14/
LOCATION:City of Rogers City\, 193 E Michigan Ave\, Rogers City\, MI\, 49779\, United States
CATEGORIES:Meetings
ATTACH;FMTTYPE=image/png:https://rcms.mcgwebdevelopment.com/wp-content/media/Main-Street-DDA.png
END:VEVENT
BEGIN:VEVENT
DTSTART;TZID=America/Detroit:20280614T131500
DTEND;TZID=America/Detroit:20280614T131500
DTSTAMP:20260425T150359
CREATED:20260123T000929Z
LAST-MODIFIED:20260123T002135Z
UID:10000769-1844601300-1844601300@rcms.mcgwebdevelopment.com
SUMMARY:Chair Zumba
DESCRIPTION:Come do Chair Zumba at the Rogers City Senior and Community Center taught by a certified Zumba Chair Instructor\, Melissa Tackett \nAttend any Wednesday at 1:15 that fits your schedule. It’s free of charge and lots of fun! All ages and abilities welcome! \nFree 30 minute class. Participants are seated for the entire workout. Fun music\, easy to follow moves\, stretch your body\, smile and make friends! Latin rhythms include Salsa\, Cumbia\, Merengue\, as well as Swing\, Disco and Jamaican! \n 
URL:https://rcms.mcgwebdevelopment.com/event/chair-zumba/2028-06-14/
LOCATION:Rogers City Area Senior & Community Center\, 131 Superior St\, Rogers City\, MI\, 49779\, United States
CATEGORIES:Events
ATTACH;FMTTYPE=image/webp:https://rcms.mcgwebdevelopment.com/wp-content/media/Chair-Zumba.webp
END:VEVENT
BEGIN:VEVENT
DTSTART;TZID=America/Detroit:20280615T164500
DTEND;TZID=America/Detroit:20280615T174500
DTSTAMP:20260425T150359
CREATED:20260123T002100Z
LAST-MODIFIED:20260123T002100Z
UID:10001932-1844700300-1844703900@rcms.mcgwebdevelopment.com
SUMMARY:ZUMBA Gold
DESCRIPTION:Need to shake off the stress? \nStep into happy at the Rogers City Senior Center. Join us for Zumba Gold is on Mondays and Thursdays at 4:45 p.m.
URL:https://rcms.mcgwebdevelopment.com/event/zumba-gold/2028-06-15/
LOCATION:Rogers City Area Senior & Community Center\, 131 Superior St\, Rogers City\, MI\, 49779\, United States
CATEGORIES:Events
ATTACH;FMTTYPE=image/webp:https://rcms.mcgwebdevelopment.com/wp-content/media/ZUMBA.webp
END:VEVENT
BEGIN:VEVENT
DTSTART;TZID=America/Detroit:20280615T174500
DTEND;TZID=America/Detroit:20280615T184500
DTSTAMP:20260425T150359
CREATED:20260122T223659Z
LAST-MODIFIED:20260122T224744Z
UID:10000309-1844703900-1844707500@rcms.mcgwebdevelopment.com
SUMMARY:ZUMBA
DESCRIPTION:Need to shake off the stress? \nStep into happy at the Rogers City Senior Center. Join us for ZUMBA on Mondays and Thursdays at 5:45 p.m.
URL:https://rcms.mcgwebdevelopment.com/event/zumba/2028-06-15/
LOCATION:Rogers City Area Senior & Community Center\, 131 Superior St\, Rogers City\, MI\, 49779\, United States
CATEGORIES:Events
ATTACH;FMTTYPE=image/webp:https://rcms.mcgwebdevelopment.com/wp-content/media/ZUMBA.webp
END:VEVENT
BEGIN:VEVENT
DTSTART;TZID=America/Detroit:20280619T164500
DTEND;TZID=America/Detroit:20280619T174500
DTSTAMP:20260425T150359
CREATED:20260123T002100Z
LAST-MODIFIED:20260123T002100Z
UID:10001933-1845045900-1845049500@rcms.mcgwebdevelopment.com
SUMMARY:ZUMBA Gold
DESCRIPTION:Need to shake off the stress? \nStep into happy at the Rogers City Senior Center. Join us for Zumba Gold is on Mondays and Thursdays at 4:45 p.m.
URL:https://rcms.mcgwebdevelopment.com/event/zumba-gold/2028-06-19/
LOCATION:Rogers City Area Senior & Community Center\, 131 Superior St\, Rogers City\, MI\, 49779\, United States
CATEGORIES:Events
ATTACH;FMTTYPE=image/webp:https://rcms.mcgwebdevelopment.com/wp-content/media/ZUMBA.webp
END:VEVENT
BEGIN:VEVENT
DTSTART;TZID=America/Detroit:20280619T174500
DTEND;TZID=America/Detroit:20280619T184500
DTSTAMP:20260425T150359
CREATED:20260122T223659Z
LAST-MODIFIED:20260122T224744Z
UID:10000310-1845049500-1845053100@rcms.mcgwebdevelopment.com
SUMMARY:ZUMBA
DESCRIPTION:Need to shake off the stress? \nStep into happy at the Rogers City Senior Center. Join us for ZUMBA on Mondays and Thursdays at 5:45 p.m.
URL:https://rcms.mcgwebdevelopment.com/event/zumba/2028-06-19/
LOCATION:Rogers City Area Senior & Community Center\, 131 Superior St\, Rogers City\, MI\, 49779\, United States
CATEGORIES:Events
ATTACH;FMTTYPE=image/webp:https://rcms.mcgwebdevelopment.com/wp-content/media/ZUMBA.webp
END:VEVENT
BEGIN:VEVENT
DTSTART;TZID=America/Detroit:20280621T131500
DTEND;TZID=America/Detroit:20280621T131500
DTSTAMP:20260425T150359
CREATED:20260123T000929Z
LAST-MODIFIED:20260123T002135Z
UID:10000770-1845206100-1845206100@rcms.mcgwebdevelopment.com
SUMMARY:Chair Zumba
DESCRIPTION:Come do Chair Zumba at the Rogers City Senior and Community Center taught by a certified Zumba Chair Instructor\, Melissa Tackett \nAttend any Wednesday at 1:15 that fits your schedule. It’s free of charge and lots of fun! All ages and abilities welcome! \nFree 30 minute class. Participants are seated for the entire workout. Fun music\, easy to follow moves\, stretch your body\, smile and make friends! Latin rhythms include Salsa\, Cumbia\, Merengue\, as well as Swing\, Disco and Jamaican! \n 
URL:https://rcms.mcgwebdevelopment.com/event/chair-zumba/2028-06-21/
LOCATION:Rogers City Area Senior & Community Center\, 131 Superior St\, Rogers City\, MI\, 49779\, United States
CATEGORIES:Events
ATTACH;FMTTYPE=image/webp:https://rcms.mcgwebdevelopment.com/wp-content/media/Chair-Zumba.webp
END:VEVENT
BEGIN:VEVENT
DTSTART;TZID=America/Detroit:20280622T164500
DTEND;TZID=America/Detroit:20280622T174500
DTSTAMP:20260425T150359
CREATED:20260123T002100Z
LAST-MODIFIED:20260123T002100Z
UID:10001934-1845305100-1845308700@rcms.mcgwebdevelopment.com
SUMMARY:ZUMBA Gold
DESCRIPTION:Need to shake off the stress? \nStep into happy at the Rogers City Senior Center. Join us for Zumba Gold is on Mondays and Thursdays at 4:45 p.m.
URL:https://rcms.mcgwebdevelopment.com/event/zumba-gold/2028-06-22/
LOCATION:Rogers City Area Senior & Community Center\, 131 Superior St\, Rogers City\, MI\, 49779\, United States
CATEGORIES:Events
ATTACH;FMTTYPE=image/webp:https://rcms.mcgwebdevelopment.com/wp-content/media/ZUMBA.webp
END:VEVENT
BEGIN:VEVENT
DTSTART;TZID=America/Detroit:20280622T174500
DTEND;TZID=America/Detroit:20280622T184500
DTSTAMP:20260425T150359
CREATED:20260122T223659Z
LAST-MODIFIED:20260122T224744Z
UID:10000311-1845308700-1845312300@rcms.mcgwebdevelopment.com
SUMMARY:ZUMBA
DESCRIPTION:Need to shake off the stress? \nStep into happy at the Rogers City Senior Center. Join us for ZUMBA on Mondays and Thursdays at 5:45 p.m.
URL:https://rcms.mcgwebdevelopment.com/event/zumba/2028-06-22/
LOCATION:Rogers City Area Senior & Community Center\, 131 Superior St\, Rogers City\, MI\, 49779\, United States
CATEGORIES:Events
ATTACH;FMTTYPE=image/webp:https://rcms.mcgwebdevelopment.com/wp-content/media/ZUMBA.webp
END:VEVENT
BEGIN:VEVENT
DTSTART;TZID=America/Detroit:20280626T164500
DTEND;TZID=America/Detroit:20280626T174500
DTSTAMP:20260425T150359
CREATED:20260123T002100Z
LAST-MODIFIED:20260123T002100Z
UID:10001935-1845650700-1845654300@rcms.mcgwebdevelopment.com
SUMMARY:ZUMBA Gold
DESCRIPTION:Need to shake off the stress? \nStep into happy at the Rogers City Senior Center. Join us for Zumba Gold is on Mondays and Thursdays at 4:45 p.m.
URL:https://rcms.mcgwebdevelopment.com/event/zumba-gold/2028-06-26/
LOCATION:Rogers City Area Senior & Community Center\, 131 Superior St\, Rogers City\, MI\, 49779\, United States
CATEGORIES:Events
ATTACH;FMTTYPE=image/webp:https://rcms.mcgwebdevelopment.com/wp-content/media/ZUMBA.webp
END:VEVENT
BEGIN:VEVENT
DTSTART;TZID=America/Detroit:20280626T174500
DTEND;TZID=America/Detroit:20280626T184500
DTSTAMP:20260425T150359
CREATED:20260122T223659Z
LAST-MODIFIED:20260122T224744Z
UID:10000312-1845654300-1845657900@rcms.mcgwebdevelopment.com
SUMMARY:ZUMBA
DESCRIPTION:Need to shake off the stress? \nStep into happy at the Rogers City Senior Center. Join us for ZUMBA on Mondays and Thursdays at 5:45 p.m.
URL:https://rcms.mcgwebdevelopment.com/event/zumba/2028-06-26/
LOCATION:Rogers City Area Senior & Community Center\, 131 Superior St\, Rogers City\, MI\, 49779\, United States
CATEGORIES:Events
ATTACH;FMTTYPE=image/webp:https://rcms.mcgwebdevelopment.com/wp-content/media/ZUMBA.webp
END:VEVENT
BEGIN:VEVENT
DTSTART;TZID=America/Detroit:20280628T131500
DTEND;TZID=America/Detroit:20280628T131500
DTSTAMP:20260425T150359
CREATED:20260123T000929Z
LAST-MODIFIED:20260123T002135Z
UID:10000771-1845810900-1845810900@rcms.mcgwebdevelopment.com
SUMMARY:Chair Zumba
DESCRIPTION:Come do Chair Zumba at the Rogers City Senior and Community Center taught by a certified Zumba Chair Instructor\, Melissa Tackett \nAttend any Wednesday at 1:15 that fits your schedule. It’s free of charge and lots of fun! All ages and abilities welcome! \nFree 30 minute class. Participants are seated for the entire workout. Fun music\, easy to follow moves\, stretch your body\, smile and make friends! Latin rhythms include Salsa\, Cumbia\, Merengue\, as well as Swing\, Disco and Jamaican! \n 
URL:https://rcms.mcgwebdevelopment.com/event/chair-zumba/2028-06-28/
LOCATION:Rogers City Area Senior & Community Center\, 131 Superior St\, Rogers City\, MI\, 49779\, United States
CATEGORIES:Events
ATTACH;FMTTYPE=image/webp:https://rcms.mcgwebdevelopment.com/wp-content/media/Chair-Zumba.webp
END:VEVENT
BEGIN:VEVENT
DTSTART;TZID=America/Detroit:20280629T164500
DTEND;TZID=America/Detroit:20280629T174500
DTSTAMP:20260425T150359
CREATED:20260123T002100Z
LAST-MODIFIED:20260123T002100Z
UID:10001936-1845909900-1845913500@rcms.mcgwebdevelopment.com
SUMMARY:ZUMBA Gold
DESCRIPTION:Need to shake off the stress? \nStep into happy at the Rogers City Senior Center. Join us for Zumba Gold is on Mondays and Thursdays at 4:45 p.m.
URL:https://rcms.mcgwebdevelopment.com/event/zumba-gold/2028-06-29/
LOCATION:Rogers City Area Senior & Community Center\, 131 Superior St\, Rogers City\, MI\, 49779\, United States
CATEGORIES:Events
ATTACH;FMTTYPE=image/webp:https://rcms.mcgwebdevelopment.com/wp-content/media/ZUMBA.webp
END:VEVENT
BEGIN:VEVENT
DTSTART;TZID=America/Detroit:20280629T174500
DTEND;TZID=America/Detroit:20280629T184500
DTSTAMP:20260425T150359
CREATED:20260122T223659Z
LAST-MODIFIED:20260122T224744Z
UID:10000313-1845913500-1845917100@rcms.mcgwebdevelopment.com
SUMMARY:ZUMBA
DESCRIPTION:Need to shake off the stress? \nStep into happy at the Rogers City Senior Center. Join us for ZUMBA on Mondays and Thursdays at 5:45 p.m.
URL:https://rcms.mcgwebdevelopment.com/event/zumba/2028-06-29/
LOCATION:Rogers City Area Senior & Community Center\, 131 Superior St\, Rogers City\, MI\, 49779\, United States
CATEGORIES:Events
ATTACH;FMTTYPE=image/webp:https://rcms.mcgwebdevelopment.com/wp-content/media/ZUMBA.webp
END:VEVENT
BEGIN:VEVENT
DTSTART;TZID=America/Detroit:20280703T164500
DTEND;TZID=America/Detroit:20280703T174500
DTSTAMP:20260425T150359
CREATED:20260123T002100Z
LAST-MODIFIED:20260123T002100Z
UID:10001937-1846255500-1846259100@rcms.mcgwebdevelopment.com
SUMMARY:ZUMBA Gold
DESCRIPTION:Need to shake off the stress? \nStep into happy at the Rogers City Senior Center. Join us for Zumba Gold is on Mondays and Thursdays at 4:45 p.m.
URL:https://rcms.mcgwebdevelopment.com/event/zumba-gold/2028-07-03/
LOCATION:Rogers City Area Senior & Community Center\, 131 Superior St\, Rogers City\, MI\, 49779\, United States
CATEGORIES:Events
ATTACH;FMTTYPE=image/webp:https://rcms.mcgwebdevelopment.com/wp-content/media/ZUMBA.webp
END:VEVENT
BEGIN:VEVENT
DTSTART;TZID=America/Detroit:20280703T174500
DTEND;TZID=America/Detroit:20280703T184500
DTSTAMP:20260425T150359
CREATED:20260122T223659Z
LAST-MODIFIED:20260122T224744Z
UID:10000314-1846259100-1846262700@rcms.mcgwebdevelopment.com
SUMMARY:ZUMBA
DESCRIPTION:Need to shake off the stress? \nStep into happy at the Rogers City Senior Center. Join us for ZUMBA on Mondays and Thursdays at 5:45 p.m.
URL:https://rcms.mcgwebdevelopment.com/event/zumba/2028-07-03/
LOCATION:Rogers City Area Senior & Community Center\, 131 Superior St\, Rogers City\, MI\, 49779\, United States
CATEGORIES:Events
ATTACH;FMTTYPE=image/webp:https://rcms.mcgwebdevelopment.com/wp-content/media/ZUMBA.webp
END:VEVENT
BEGIN:VEVENT
DTSTART;TZID=America/Detroit:20280705T131500
DTEND;TZID=America/Detroit:20280705T131500
DTSTAMP:20260425T150359
CREATED:20260123T000929Z
LAST-MODIFIED:20260123T002135Z
UID:10000772-1846415700-1846415700@rcms.mcgwebdevelopment.com
SUMMARY:Chair Zumba
DESCRIPTION:Come do Chair Zumba at the Rogers City Senior and Community Center taught by a certified Zumba Chair Instructor\, Melissa Tackett \nAttend any Wednesday at 1:15 that fits your schedule. It’s free of charge and lots of fun! All ages and abilities welcome! \nFree 30 minute class. Participants are seated for the entire workout. Fun music\, easy to follow moves\, stretch your body\, smile and make friends! Latin rhythms include Salsa\, Cumbia\, Merengue\, as well as Swing\, Disco and Jamaican! \n 
URL:https://rcms.mcgwebdevelopment.com/event/chair-zumba/2028-07-05/
LOCATION:Rogers City Area Senior & Community Center\, 131 Superior St\, Rogers City\, MI\, 49779\, United States
CATEGORIES:Events
ATTACH;FMTTYPE=image/webp:https://rcms.mcgwebdevelopment.com/wp-content/media/Chair-Zumba.webp
END:VEVENT
BEGIN:VEVENT
DTSTART;TZID=America/Detroit:20280706T164500
DTEND;TZID=America/Detroit:20280706T174500
DTSTAMP:20260425T150359
CREATED:20260123T002100Z
LAST-MODIFIED:20260123T002100Z
UID:10001938-1846514700-1846518300@rcms.mcgwebdevelopment.com
SUMMARY:ZUMBA Gold
DESCRIPTION:Need to shake off the stress? \nStep into happy at the Rogers City Senior Center. Join us for Zumba Gold is on Mondays and Thursdays at 4:45 p.m.
URL:https://rcms.mcgwebdevelopment.com/event/zumba-gold/2028-07-06/
LOCATION:Rogers City Area Senior & Community Center\, 131 Superior St\, Rogers City\, MI\, 49779\, United States
CATEGORIES:Events
ATTACH;FMTTYPE=image/webp:https://rcms.mcgwebdevelopment.com/wp-content/media/ZUMBA.webp
END:VEVENT
BEGIN:VEVENT
DTSTART;TZID=America/Detroit:20280706T174500
DTEND;TZID=America/Detroit:20280706T184500
DTSTAMP:20260425T150359
CREATED:20260122T223659Z
LAST-MODIFIED:20260122T224744Z
UID:10000315-1846518300-1846521900@rcms.mcgwebdevelopment.com
SUMMARY:ZUMBA
DESCRIPTION:Need to shake off the stress? \nStep into happy at the Rogers City Senior Center. Join us for ZUMBA on Mondays and Thursdays at 5:45 p.m.
URL:https://rcms.mcgwebdevelopment.com/event/zumba/2028-07-06/
LOCATION:Rogers City Area Senior & Community Center\, 131 Superior St\, Rogers City\, MI\, 49779\, United States
CATEGORIES:Events
ATTACH;FMTTYPE=image/webp:https://rcms.mcgwebdevelopment.com/wp-content/media/ZUMBA.webp
END:VEVENT
BEGIN:VEVENT
DTSTART;TZID=America/Detroit:20280710T164500
DTEND;TZID=America/Detroit:20280710T174500
DTSTAMP:20260425T150359
CREATED:20260123T002100Z
LAST-MODIFIED:20260123T002100Z
UID:10001939-1846860300-1846863900@rcms.mcgwebdevelopment.com
SUMMARY:ZUMBA Gold
DESCRIPTION:Need to shake off the stress? \nStep into happy at the Rogers City Senior Center. Join us for Zumba Gold is on Mondays and Thursdays at 4:45 p.m.
URL:https://rcms.mcgwebdevelopment.com/event/zumba-gold/2028-07-10/
LOCATION:Rogers City Area Senior & Community Center\, 131 Superior St\, Rogers City\, MI\, 49779\, United States
CATEGORIES:Events
ATTACH;FMTTYPE=image/webp:https://rcms.mcgwebdevelopment.com/wp-content/media/ZUMBA.webp
END:VEVENT
BEGIN:VEVENT
DTSTART;TZID=America/Detroit:20280710T174500
DTEND;TZID=America/Detroit:20280710T184500
DTSTAMP:20260425T150359
CREATED:20260122T223659Z
LAST-MODIFIED:20260122T224744Z
UID:10000316-1846863900-1846867500@rcms.mcgwebdevelopment.com
SUMMARY:ZUMBA
DESCRIPTION:Need to shake off the stress? \nStep into happy at the Rogers City Senior Center. Join us for ZUMBA on Mondays and Thursdays at 5:45 p.m.
URL:https://rcms.mcgwebdevelopment.com/event/zumba/2028-07-10/
LOCATION:Rogers City Area Senior & Community Center\, 131 Superior St\, Rogers City\, MI\, 49779\, United States
CATEGORIES:Events
ATTACH;FMTTYPE=image/webp:https://rcms.mcgwebdevelopment.com/wp-content/media/ZUMBA.webp
END:VEVENT
BEGIN:VEVENT
DTSTART;TZID=America/Detroit:20280712T073000
DTEND;TZID=America/Detroit:20280712T083000
DTSTAMP:20260425T150359
CREATED:20251125T214512Z
LAST-MODIFIED:20251125T214512Z
UID:10000032-1846999800-1847003400@rcms.mcgwebdevelopment.com
SUMMARY:Main Street/DDA Regular Meeting
DESCRIPTION:Occurs on the 2nd Wednesday of each month in the City Hall Chambers.
URL:https://rcms.mcgwebdevelopment.com/event/main-street-dda-regular-meeting/2028-07-12/
LOCATION:City of Rogers City\, 193 E Michigan Ave\, Rogers City\, MI\, 49779\, United States
CATEGORIES:Meetings
ATTACH;FMTTYPE=image/png:https://rcms.mcgwebdevelopment.com/wp-content/media/Main-Street-DDA.png
END:VEVENT
BEGIN:VEVENT
DTSTART;TZID=America/Detroit:20280712T131500
DTEND;TZID=America/Detroit:20280712T131500
DTSTAMP:20260425T150359
CREATED:20260123T000929Z
LAST-MODIFIED:20260123T002135Z
UID:10000773-1847020500-1847020500@rcms.mcgwebdevelopment.com
SUMMARY:Chair Zumba
DESCRIPTION:Come do Chair Zumba at the Rogers City Senior and Community Center taught by a certified Zumba Chair Instructor\, Melissa Tackett \nAttend any Wednesday at 1:15 that fits your schedule. It’s free of charge and lots of fun! All ages and abilities welcome! \nFree 30 minute class. Participants are seated for the entire workout. Fun music\, easy to follow moves\, stretch your body\, smile and make friends! Latin rhythms include Salsa\, Cumbia\, Merengue\, as well as Swing\, Disco and Jamaican! \n 
URL:https://rcms.mcgwebdevelopment.com/event/chair-zumba/2028-07-12/
LOCATION:Rogers City Area Senior & Community Center\, 131 Superior St\, Rogers City\, MI\, 49779\, United States
CATEGORIES:Events
ATTACH;FMTTYPE=image/webp:https://rcms.mcgwebdevelopment.com/wp-content/media/Chair-Zumba.webp
END:VEVENT
BEGIN:VEVENT
DTSTART;TZID=America/Detroit:20280713T164500
DTEND;TZID=America/Detroit:20280713T174500
DTSTAMP:20260425T150359
CREATED:20260123T002100Z
LAST-MODIFIED:20260123T002100Z
UID:10001940-1847119500-1847123100@rcms.mcgwebdevelopment.com
SUMMARY:ZUMBA Gold
DESCRIPTION:Need to shake off the stress? \nStep into happy at the Rogers City Senior Center. Join us for Zumba Gold is on Mondays and Thursdays at 4:45 p.m.
URL:https://rcms.mcgwebdevelopment.com/event/zumba-gold/2028-07-13/
LOCATION:Rogers City Area Senior & Community Center\, 131 Superior St\, Rogers City\, MI\, 49779\, United States
CATEGORIES:Events
ATTACH;FMTTYPE=image/webp:https://rcms.mcgwebdevelopment.com/wp-content/media/ZUMBA.webp
END:VEVENT
BEGIN:VEVENT
DTSTART;TZID=America/Detroit:20280713T174500
DTEND;TZID=America/Detroit:20280713T184500
DTSTAMP:20260425T150359
CREATED:20260122T223659Z
LAST-MODIFIED:20260122T224744Z
UID:10000317-1847123100-1847126700@rcms.mcgwebdevelopment.com
SUMMARY:ZUMBA
DESCRIPTION:Need to shake off the stress? \nStep into happy at the Rogers City Senior Center. Join us for ZUMBA on Mondays and Thursdays at 5:45 p.m.
URL:https://rcms.mcgwebdevelopment.com/event/zumba/2028-07-13/
LOCATION:Rogers City Area Senior & Community Center\, 131 Superior St\, Rogers City\, MI\, 49779\, United States
CATEGORIES:Events
ATTACH;FMTTYPE=image/webp:https://rcms.mcgwebdevelopment.com/wp-content/media/ZUMBA.webp
END:VEVENT
BEGIN:VEVENT
DTSTART;TZID=America/Detroit:20280717T164500
DTEND;TZID=America/Detroit:20280717T174500
DTSTAMP:20260425T150359
CREATED:20260123T002100Z
LAST-MODIFIED:20260123T002100Z
UID:10001941-1847465100-1847468700@rcms.mcgwebdevelopment.com
SUMMARY:ZUMBA Gold
DESCRIPTION:Need to shake off the stress? \nStep into happy at the Rogers City Senior Center. Join us for Zumba Gold is on Mondays and Thursdays at 4:45 p.m.
URL:https://rcms.mcgwebdevelopment.com/event/zumba-gold/2028-07-17/
LOCATION:Rogers City Area Senior & Community Center\, 131 Superior St\, Rogers City\, MI\, 49779\, United States
CATEGORIES:Events
ATTACH;FMTTYPE=image/webp:https://rcms.mcgwebdevelopment.com/wp-content/media/ZUMBA.webp
END:VEVENT
END:VCALENDAR