BEGIN:VCALENDAR
VERSION:2.0
PRODID:-//Downtown Rogers City - ECPv6.15.20//NONSGML v1.0//EN
CALSCALE:GREGORIAN
METHOD:PUBLISH
X-WR-CALNAME:Downtown Rogers City
X-ORIGINAL-URL:https://rcms.mcgwebdevelopment.com
X-WR-CALDESC:Events for Downtown Rogers City
REFRESH-INTERVAL;VALUE=DURATION:PT1H
X-Robots-Tag:noindex
X-PUBLISHED-TTL:PT1H
BEGIN:VTIMEZONE
TZID:America/Detroit
BEGIN:DAYLIGHT
TZOFFSETFROM:-0500
TZOFFSETTO:-0400
TZNAME:EDT
DTSTART:20260308T070000
END:DAYLIGHT
BEGIN:STANDARD
TZOFFSETFROM:-0400
TZOFFSETTO:-0500
TZNAME:EST
DTSTART:20261101T060000
END:STANDARD
BEGIN:DAYLIGHT
TZOFFSETFROM:-0500
TZOFFSETTO:-0400
TZNAME:EDT
DTSTART:20270314T070000
END:DAYLIGHT
BEGIN:STANDARD
TZOFFSETFROM:-0400
TZOFFSETTO:-0500
TZNAME:EST
DTSTART:20271107T060000
END:STANDARD
BEGIN:DAYLIGHT
TZOFFSETFROM:-0500
TZOFFSETTO:-0400
TZNAME:EDT
DTSTART:20280312T070000
END:DAYLIGHT
BEGIN:STANDARD
TZOFFSETFROM:-0400
TZOFFSETTO:-0500
TZNAME:EST
DTSTART:20281105T060000
END:STANDARD
END:VTIMEZONE
BEGIN:VEVENT
DTSTART;TZID=America/Detroit:20270908T073000
DTEND;TZID=America/Detroit:20270908T083000
DTSTAMP:20260422T182855
CREATED:20251125T214512Z
LAST-MODIFIED:20251125T214512Z
UID:10000022-1820388600-1820392200@rcms.mcgwebdevelopment.com
SUMMARY:Main Street/DDA Regular Meeting
DESCRIPTION:Occurs on the 2nd Wednesday of each month in the City Hall Chambers.
URL:https://rcms.mcgwebdevelopment.com/event/main-street-dda-regular-meeting/2027-09-08/
LOCATION:City of Rogers City\, 193 E Michigan Ave\, Rogers City\, MI\, 49779\, United States
CATEGORIES:Meetings
ATTACH;FMTTYPE=image/png:https://rcms.mcgwebdevelopment.com/wp-content/media/Main-Street-DDA.png
END:VEVENT
BEGIN:VEVENT
DTSTART;TZID=America/Detroit:20270908T131500
DTEND;TZID=America/Detroit:20270908T131500
DTSTAMP:20260422T182855
CREATED:20260123T000929Z
LAST-MODIFIED:20260123T002135Z
UID:10000729-1820409300-1820409300@rcms.mcgwebdevelopment.com
SUMMARY:Chair Zumba
DESCRIPTION:Come do Chair Zumba at the Rogers City Senior and Community Center taught by a certified Zumba Chair Instructor\, Melissa Tackett \nAttend any Wednesday at 1:15 that fits your schedule. It’s free of charge and lots of fun! All ages and abilities welcome! \nFree 30 minute class. Participants are seated for the entire workout. Fun music\, easy to follow moves\, stretch your body\, smile and make friends! Latin rhythms include Salsa\, Cumbia\, Merengue\, as well as Swing\, Disco and Jamaican! \n 
URL:https://rcms.mcgwebdevelopment.com/event/chair-zumba/2027-09-08/
LOCATION:Rogers City Area Senior & Community Center\, 131 Superior St\, Rogers City\, MI\, 49779\, United States
CATEGORIES:Events
ATTACH;FMTTYPE=image/webp:https://rcms.mcgwebdevelopment.com/wp-content/media/Chair-Zumba.webp
END:VEVENT
BEGIN:VEVENT
DTSTART;TZID=America/Detroit:20270909T164500
DTEND;TZID=America/Detroit:20270909T174500
DTSTAMP:20260422T182855
CREATED:20260123T002100Z
LAST-MODIFIED:20260123T002100Z
UID:10001852-1820508300-1820511900@rcms.mcgwebdevelopment.com
SUMMARY:ZUMBA Gold
DESCRIPTION:Need to shake off the stress? \nStep into happy at the Rogers City Senior Center. Join us for Zumba Gold is on Mondays and Thursdays at 4:45 p.m.
URL:https://rcms.mcgwebdevelopment.com/event/zumba-gold/2027-09-09/
LOCATION:Rogers City Area Senior & Community Center\, 131 Superior St\, Rogers City\, MI\, 49779\, United States
CATEGORIES:Events
ATTACH;FMTTYPE=image/webp:https://rcms.mcgwebdevelopment.com/wp-content/media/ZUMBA.webp
END:VEVENT
BEGIN:VEVENT
DTSTART;TZID=America/Detroit:20270909T174500
DTEND;TZID=America/Detroit:20270909T184500
DTSTAMP:20260422T182855
CREATED:20260122T223659Z
LAST-MODIFIED:20260122T224744Z
UID:10000229-1820511900-1820515500@rcms.mcgwebdevelopment.com
SUMMARY:ZUMBA
DESCRIPTION:Need to shake off the stress? \nStep into happy at the Rogers City Senior Center. Join us for ZUMBA on Mondays and Thursdays at 5:45 p.m.
URL:https://rcms.mcgwebdevelopment.com/event/zumba/2027-09-09/
LOCATION:Rogers City Area Senior & Community Center\, 131 Superior St\, Rogers City\, MI\, 49779\, United States
CATEGORIES:Events
ATTACH;FMTTYPE=image/webp:https://rcms.mcgwebdevelopment.com/wp-content/media/ZUMBA.webp
END:VEVENT
BEGIN:VEVENT
DTSTART;TZID=America/Detroit:20270913T164500
DTEND;TZID=America/Detroit:20270913T174500
DTSTAMP:20260422T182855
CREATED:20260123T002100Z
LAST-MODIFIED:20260123T002100Z
UID:10001853-1820853900-1820857500@rcms.mcgwebdevelopment.com
SUMMARY:ZUMBA Gold
DESCRIPTION:Need to shake off the stress? \nStep into happy at the Rogers City Senior Center. Join us for Zumba Gold is on Mondays and Thursdays at 4:45 p.m.
URL:https://rcms.mcgwebdevelopment.com/event/zumba-gold/2027-09-13/
LOCATION:Rogers City Area Senior & Community Center\, 131 Superior St\, Rogers City\, MI\, 49779\, United States
CATEGORIES:Events
ATTACH;FMTTYPE=image/webp:https://rcms.mcgwebdevelopment.com/wp-content/media/ZUMBA.webp
END:VEVENT
BEGIN:VEVENT
DTSTART;TZID=America/Detroit:20270913T174500
DTEND;TZID=America/Detroit:20270913T184500
DTSTAMP:20260422T182855
CREATED:20260122T223659Z
LAST-MODIFIED:20260122T224744Z
UID:10000230-1820857500-1820861100@rcms.mcgwebdevelopment.com
SUMMARY:ZUMBA
DESCRIPTION:Need to shake off the stress? \nStep into happy at the Rogers City Senior Center. Join us for ZUMBA on Mondays and Thursdays at 5:45 p.m.
URL:https://rcms.mcgwebdevelopment.com/event/zumba/2027-09-13/
LOCATION:Rogers City Area Senior & Community Center\, 131 Superior St\, Rogers City\, MI\, 49779\, United States
CATEGORIES:Events
ATTACH;FMTTYPE=image/webp:https://rcms.mcgwebdevelopment.com/wp-content/media/ZUMBA.webp
END:VEVENT
BEGIN:VEVENT
DTSTART;TZID=America/Detroit:20270915T131500
DTEND;TZID=America/Detroit:20270915T131500
DTSTAMP:20260422T182855
CREATED:20260123T000929Z
LAST-MODIFIED:20260123T002135Z
UID:10000730-1821014100-1821014100@rcms.mcgwebdevelopment.com
SUMMARY:Chair Zumba
DESCRIPTION:Come do Chair Zumba at the Rogers City Senior and Community Center taught by a certified Zumba Chair Instructor\, Melissa Tackett \nAttend any Wednesday at 1:15 that fits your schedule. It’s free of charge and lots of fun! All ages and abilities welcome! \nFree 30 minute class. Participants are seated for the entire workout. Fun music\, easy to follow moves\, stretch your body\, smile and make friends! Latin rhythms include Salsa\, Cumbia\, Merengue\, as well as Swing\, Disco and Jamaican! \n 
URL:https://rcms.mcgwebdevelopment.com/event/chair-zumba/2027-09-15/
LOCATION:Rogers City Area Senior & Community Center\, 131 Superior St\, Rogers City\, MI\, 49779\, United States
CATEGORIES:Events
ATTACH;FMTTYPE=image/webp:https://rcms.mcgwebdevelopment.com/wp-content/media/Chair-Zumba.webp
END:VEVENT
BEGIN:VEVENT
DTSTART;TZID=America/Detroit:20270916T164500
DTEND;TZID=America/Detroit:20270916T174500
DTSTAMP:20260422T182855
CREATED:20260123T002100Z
LAST-MODIFIED:20260123T002100Z
UID:10001854-1821113100-1821116700@rcms.mcgwebdevelopment.com
SUMMARY:ZUMBA Gold
DESCRIPTION:Need to shake off the stress? \nStep into happy at the Rogers City Senior Center. Join us for Zumba Gold is on Mondays and Thursdays at 4:45 p.m.
URL:https://rcms.mcgwebdevelopment.com/event/zumba-gold/2027-09-16/
LOCATION:Rogers City Area Senior & Community Center\, 131 Superior St\, Rogers City\, MI\, 49779\, United States
CATEGORIES:Events
ATTACH;FMTTYPE=image/webp:https://rcms.mcgwebdevelopment.com/wp-content/media/ZUMBA.webp
END:VEVENT
BEGIN:VEVENT
DTSTART;TZID=America/Detroit:20270916T174500
DTEND;TZID=America/Detroit:20270916T184500
DTSTAMP:20260422T182855
CREATED:20260122T223659Z
LAST-MODIFIED:20260122T224744Z
UID:10000231-1821116700-1821120300@rcms.mcgwebdevelopment.com
SUMMARY:ZUMBA
DESCRIPTION:Need to shake off the stress? \nStep into happy at the Rogers City Senior Center. Join us for ZUMBA on Mondays and Thursdays at 5:45 p.m.
URL:https://rcms.mcgwebdevelopment.com/event/zumba/2027-09-16/
LOCATION:Rogers City Area Senior & Community Center\, 131 Superior St\, Rogers City\, MI\, 49779\, United States
CATEGORIES:Events
ATTACH;FMTTYPE=image/webp:https://rcms.mcgwebdevelopment.com/wp-content/media/ZUMBA.webp
END:VEVENT
BEGIN:VEVENT
DTSTART;TZID=America/Detroit:20270920T164500
DTEND;TZID=America/Detroit:20270920T174500
DTSTAMP:20260422T182855
CREATED:20260123T002100Z
LAST-MODIFIED:20260123T002100Z
UID:10001855-1821458700-1821462300@rcms.mcgwebdevelopment.com
SUMMARY:ZUMBA Gold
DESCRIPTION:Need to shake off the stress? \nStep into happy at the Rogers City Senior Center. Join us for Zumba Gold is on Mondays and Thursdays at 4:45 p.m.
URL:https://rcms.mcgwebdevelopment.com/event/zumba-gold/2027-09-20/
LOCATION:Rogers City Area Senior & Community Center\, 131 Superior St\, Rogers City\, MI\, 49779\, United States
CATEGORIES:Events
ATTACH;FMTTYPE=image/webp:https://rcms.mcgwebdevelopment.com/wp-content/media/ZUMBA.webp
END:VEVENT
BEGIN:VEVENT
DTSTART;TZID=America/Detroit:20270920T174500
DTEND;TZID=America/Detroit:20270920T184500
DTSTAMP:20260422T182855
CREATED:20260122T223659Z
LAST-MODIFIED:20260122T224744Z
UID:10000232-1821462300-1821465900@rcms.mcgwebdevelopment.com
SUMMARY:ZUMBA
DESCRIPTION:Need to shake off the stress? \nStep into happy at the Rogers City Senior Center. Join us for ZUMBA on Mondays and Thursdays at 5:45 p.m.
URL:https://rcms.mcgwebdevelopment.com/event/zumba/2027-09-20/
LOCATION:Rogers City Area Senior & Community Center\, 131 Superior St\, Rogers City\, MI\, 49779\, United States
CATEGORIES:Events
ATTACH;FMTTYPE=image/webp:https://rcms.mcgwebdevelopment.com/wp-content/media/ZUMBA.webp
END:VEVENT
BEGIN:VEVENT
DTSTART;TZID=America/Detroit:20270922T131500
DTEND;TZID=America/Detroit:20270922T131500
DTSTAMP:20260422T182855
CREATED:20260123T000929Z
LAST-MODIFIED:20260123T002135Z
UID:10000731-1821618900-1821618900@rcms.mcgwebdevelopment.com
SUMMARY:Chair Zumba
DESCRIPTION:Come do Chair Zumba at the Rogers City Senior and Community Center taught by a certified Zumba Chair Instructor\, Melissa Tackett \nAttend any Wednesday at 1:15 that fits your schedule. It’s free of charge and lots of fun! All ages and abilities welcome! \nFree 30 minute class. Participants are seated for the entire workout. Fun music\, easy to follow moves\, stretch your body\, smile and make friends! Latin rhythms include Salsa\, Cumbia\, Merengue\, as well as Swing\, Disco and Jamaican! \n 
URL:https://rcms.mcgwebdevelopment.com/event/chair-zumba/2027-09-22/
LOCATION:Rogers City Area Senior & Community Center\, 131 Superior St\, Rogers City\, MI\, 49779\, United States
CATEGORIES:Events
ATTACH;FMTTYPE=image/webp:https://rcms.mcgwebdevelopment.com/wp-content/media/Chair-Zumba.webp
END:VEVENT
BEGIN:VEVENT
DTSTART;TZID=America/Detroit:20270923T164500
DTEND;TZID=America/Detroit:20270923T174500
DTSTAMP:20260422T182855
CREATED:20260123T002100Z
LAST-MODIFIED:20260123T002100Z
UID:10001856-1821717900-1821721500@rcms.mcgwebdevelopment.com
SUMMARY:ZUMBA Gold
DESCRIPTION:Need to shake off the stress? \nStep into happy at the Rogers City Senior Center. Join us for Zumba Gold is on Mondays and Thursdays at 4:45 p.m.
URL:https://rcms.mcgwebdevelopment.com/event/zumba-gold/2027-09-23/
LOCATION:Rogers City Area Senior & Community Center\, 131 Superior St\, Rogers City\, MI\, 49779\, United States
CATEGORIES:Events
ATTACH;FMTTYPE=image/webp:https://rcms.mcgwebdevelopment.com/wp-content/media/ZUMBA.webp
END:VEVENT
BEGIN:VEVENT
DTSTART;TZID=America/Detroit:20270923T174500
DTEND;TZID=America/Detroit:20270923T184500
DTSTAMP:20260422T182855
CREATED:20260122T223659Z
LAST-MODIFIED:20260122T224744Z
UID:10000233-1821721500-1821725100@rcms.mcgwebdevelopment.com
SUMMARY:ZUMBA
DESCRIPTION:Need to shake off the stress? \nStep into happy at the Rogers City Senior Center. Join us for ZUMBA on Mondays and Thursdays at 5:45 p.m.
URL:https://rcms.mcgwebdevelopment.com/event/zumba/2027-09-23/
LOCATION:Rogers City Area Senior & Community Center\, 131 Superior St\, Rogers City\, MI\, 49779\, United States
CATEGORIES:Events
ATTACH;FMTTYPE=image/webp:https://rcms.mcgwebdevelopment.com/wp-content/media/ZUMBA.webp
END:VEVENT
BEGIN:VEVENT
DTSTART;TZID=America/Detroit:20270927T164500
DTEND;TZID=America/Detroit:20270927T174500
DTSTAMP:20260422T182855
CREATED:20260123T002100Z
LAST-MODIFIED:20260123T002100Z
UID:10001857-1822063500-1822067100@rcms.mcgwebdevelopment.com
SUMMARY:ZUMBA Gold
DESCRIPTION:Need to shake off the stress? \nStep into happy at the Rogers City Senior Center. Join us for Zumba Gold is on Mondays and Thursdays at 4:45 p.m.
URL:https://rcms.mcgwebdevelopment.com/event/zumba-gold/2027-09-27/
LOCATION:Rogers City Area Senior & Community Center\, 131 Superior St\, Rogers City\, MI\, 49779\, United States
CATEGORIES:Events
ATTACH;FMTTYPE=image/webp:https://rcms.mcgwebdevelopment.com/wp-content/media/ZUMBA.webp
END:VEVENT
BEGIN:VEVENT
DTSTART;TZID=America/Detroit:20270927T174500
DTEND;TZID=America/Detroit:20270927T184500
DTSTAMP:20260422T182855
CREATED:20260122T223659Z
LAST-MODIFIED:20260122T224744Z
UID:10000234-1822067100-1822070700@rcms.mcgwebdevelopment.com
SUMMARY:ZUMBA
DESCRIPTION:Need to shake off the stress? \nStep into happy at the Rogers City Senior Center. Join us for ZUMBA on Mondays and Thursdays at 5:45 p.m.
URL:https://rcms.mcgwebdevelopment.com/event/zumba/2027-09-27/
LOCATION:Rogers City Area Senior & Community Center\, 131 Superior St\, Rogers City\, MI\, 49779\, United States
CATEGORIES:Events
ATTACH;FMTTYPE=image/webp:https://rcms.mcgwebdevelopment.com/wp-content/media/ZUMBA.webp
END:VEVENT
BEGIN:VEVENT
DTSTART;TZID=America/Detroit:20270929T131500
DTEND;TZID=America/Detroit:20270929T131500
DTSTAMP:20260422T182855
CREATED:20260123T000929Z
LAST-MODIFIED:20260123T002135Z
UID:10000732-1822223700-1822223700@rcms.mcgwebdevelopment.com
SUMMARY:Chair Zumba
DESCRIPTION:Come do Chair Zumba at the Rogers City Senior and Community Center taught by a certified Zumba Chair Instructor\, Melissa Tackett \nAttend any Wednesday at 1:15 that fits your schedule. It’s free of charge and lots of fun! All ages and abilities welcome! \nFree 30 minute class. Participants are seated for the entire workout. Fun music\, easy to follow moves\, stretch your body\, smile and make friends! Latin rhythms include Salsa\, Cumbia\, Merengue\, as well as Swing\, Disco and Jamaican! \n 
URL:https://rcms.mcgwebdevelopment.com/event/chair-zumba/2027-09-29/
LOCATION:Rogers City Area Senior & Community Center\, 131 Superior St\, Rogers City\, MI\, 49779\, United States
CATEGORIES:Events
ATTACH;FMTTYPE=image/webp:https://rcms.mcgwebdevelopment.com/wp-content/media/Chair-Zumba.webp
END:VEVENT
BEGIN:VEVENT
DTSTART;TZID=America/Detroit:20270930T164500
DTEND;TZID=America/Detroit:20270930T174500
DTSTAMP:20260422T182855
CREATED:20260123T002100Z
LAST-MODIFIED:20260123T002100Z
UID:10001858-1822322700-1822326300@rcms.mcgwebdevelopment.com
SUMMARY:ZUMBA Gold
DESCRIPTION:Need to shake off the stress? \nStep into happy at the Rogers City Senior Center. Join us for Zumba Gold is on Mondays and Thursdays at 4:45 p.m.
URL:https://rcms.mcgwebdevelopment.com/event/zumba-gold/2027-09-30/
LOCATION:Rogers City Area Senior & Community Center\, 131 Superior St\, Rogers City\, MI\, 49779\, United States
CATEGORIES:Events
ATTACH;FMTTYPE=image/webp:https://rcms.mcgwebdevelopment.com/wp-content/media/ZUMBA.webp
END:VEVENT
BEGIN:VEVENT
DTSTART;TZID=America/Detroit:20270930T174500
DTEND;TZID=America/Detroit:20270930T184500
DTSTAMP:20260422T182855
CREATED:20260122T223659Z
LAST-MODIFIED:20260122T224744Z
UID:10000235-1822326300-1822329900@rcms.mcgwebdevelopment.com
SUMMARY:ZUMBA
DESCRIPTION:Need to shake off the stress? \nStep into happy at the Rogers City Senior Center. Join us for ZUMBA on Mondays and Thursdays at 5:45 p.m.
URL:https://rcms.mcgwebdevelopment.com/event/zumba/2027-09-30/
LOCATION:Rogers City Area Senior & Community Center\, 131 Superior St\, Rogers City\, MI\, 49779\, United States
CATEGORIES:Events
ATTACH;FMTTYPE=image/webp:https://rcms.mcgwebdevelopment.com/wp-content/media/ZUMBA.webp
END:VEVENT
BEGIN:VEVENT
DTSTART;TZID=America/Detroit:20271004T164500
DTEND;TZID=America/Detroit:20271004T174500
DTSTAMP:20260422T182855
CREATED:20260123T002100Z
LAST-MODIFIED:20260123T002100Z
UID:10001859-1822668300-1822671900@rcms.mcgwebdevelopment.com
SUMMARY:ZUMBA Gold
DESCRIPTION:Need to shake off the stress? \nStep into happy at the Rogers City Senior Center. Join us for Zumba Gold is on Mondays and Thursdays at 4:45 p.m.
URL:https://rcms.mcgwebdevelopment.com/event/zumba-gold/2027-10-04/
LOCATION:Rogers City Area Senior & Community Center\, 131 Superior St\, Rogers City\, MI\, 49779\, United States
CATEGORIES:Events
ATTACH;FMTTYPE=image/webp:https://rcms.mcgwebdevelopment.com/wp-content/media/ZUMBA.webp
END:VEVENT
BEGIN:VEVENT
DTSTART;TZID=America/Detroit:20271004T174500
DTEND;TZID=America/Detroit:20271004T184500
DTSTAMP:20260422T182855
CREATED:20260122T223659Z
LAST-MODIFIED:20260122T224744Z
UID:10000236-1822671900-1822675500@rcms.mcgwebdevelopment.com
SUMMARY:ZUMBA
DESCRIPTION:Need to shake off the stress? \nStep into happy at the Rogers City Senior Center. Join us for ZUMBA on Mondays and Thursdays at 5:45 p.m.
URL:https://rcms.mcgwebdevelopment.com/event/zumba/2027-10-04/
LOCATION:Rogers City Area Senior & Community Center\, 131 Superior St\, Rogers City\, MI\, 49779\, United States
CATEGORIES:Events
ATTACH;FMTTYPE=image/webp:https://rcms.mcgwebdevelopment.com/wp-content/media/ZUMBA.webp
END:VEVENT
BEGIN:VEVENT
DTSTART;TZID=America/Detroit:20271006T131500
DTEND;TZID=America/Detroit:20271006T131500
DTSTAMP:20260422T182855
CREATED:20260123T000929Z
LAST-MODIFIED:20260123T002135Z
UID:10000733-1822828500-1822828500@rcms.mcgwebdevelopment.com
SUMMARY:Chair Zumba
DESCRIPTION:Come do Chair Zumba at the Rogers City Senior and Community Center taught by a certified Zumba Chair Instructor\, Melissa Tackett \nAttend any Wednesday at 1:15 that fits your schedule. It’s free of charge and lots of fun! All ages and abilities welcome! \nFree 30 minute class. Participants are seated for the entire workout. Fun music\, easy to follow moves\, stretch your body\, smile and make friends! Latin rhythms include Salsa\, Cumbia\, Merengue\, as well as Swing\, Disco and Jamaican! \n 
URL:https://rcms.mcgwebdevelopment.com/event/chair-zumba/2027-10-06/
LOCATION:Rogers City Area Senior & Community Center\, 131 Superior St\, Rogers City\, MI\, 49779\, United States
CATEGORIES:Events
ATTACH;FMTTYPE=image/webp:https://rcms.mcgwebdevelopment.com/wp-content/media/Chair-Zumba.webp
END:VEVENT
BEGIN:VEVENT
DTSTART;TZID=America/Detroit:20271007T164500
DTEND;TZID=America/Detroit:20271007T174500
DTSTAMP:20260422T182855
CREATED:20260123T002100Z
LAST-MODIFIED:20260123T002100Z
UID:10001860-1822927500-1822931100@rcms.mcgwebdevelopment.com
SUMMARY:ZUMBA Gold
DESCRIPTION:Need to shake off the stress? \nStep into happy at the Rogers City Senior Center. Join us for Zumba Gold is on Mondays and Thursdays at 4:45 p.m.
URL:https://rcms.mcgwebdevelopment.com/event/zumba-gold/2027-10-07/
LOCATION:Rogers City Area Senior & Community Center\, 131 Superior St\, Rogers City\, MI\, 49779\, United States
CATEGORIES:Events
ATTACH;FMTTYPE=image/webp:https://rcms.mcgwebdevelopment.com/wp-content/media/ZUMBA.webp
END:VEVENT
BEGIN:VEVENT
DTSTART;TZID=America/Detroit:20271007T174500
DTEND;TZID=America/Detroit:20271007T184500
DTSTAMP:20260422T182855
CREATED:20260122T223659Z
LAST-MODIFIED:20260122T224744Z
UID:10000237-1822931100-1822934700@rcms.mcgwebdevelopment.com
SUMMARY:ZUMBA
DESCRIPTION:Need to shake off the stress? \nStep into happy at the Rogers City Senior Center. Join us for ZUMBA on Mondays and Thursdays at 5:45 p.m.
URL:https://rcms.mcgwebdevelopment.com/event/zumba/2027-10-07/
LOCATION:Rogers City Area Senior & Community Center\, 131 Superior St\, Rogers City\, MI\, 49779\, United States
CATEGORIES:Events
ATTACH;FMTTYPE=image/webp:https://rcms.mcgwebdevelopment.com/wp-content/media/ZUMBA.webp
END:VEVENT
BEGIN:VEVENT
DTSTART;TZID=America/Detroit:20271011T164500
DTEND;TZID=America/Detroit:20271011T174500
DTSTAMP:20260422T182855
CREATED:20260123T002100Z
LAST-MODIFIED:20260123T002100Z
UID:10001861-1823273100-1823276700@rcms.mcgwebdevelopment.com
SUMMARY:ZUMBA Gold
DESCRIPTION:Need to shake off the stress? \nStep into happy at the Rogers City Senior Center. Join us for Zumba Gold is on Mondays and Thursdays at 4:45 p.m.
URL:https://rcms.mcgwebdevelopment.com/event/zumba-gold/2027-10-11/
LOCATION:Rogers City Area Senior & Community Center\, 131 Superior St\, Rogers City\, MI\, 49779\, United States
CATEGORIES:Events
ATTACH;FMTTYPE=image/webp:https://rcms.mcgwebdevelopment.com/wp-content/media/ZUMBA.webp
END:VEVENT
BEGIN:VEVENT
DTSTART;TZID=America/Detroit:20271011T174500
DTEND;TZID=America/Detroit:20271011T184500
DTSTAMP:20260422T182855
CREATED:20260122T223659Z
LAST-MODIFIED:20260122T224744Z
UID:10000238-1823276700-1823280300@rcms.mcgwebdevelopment.com
SUMMARY:ZUMBA
DESCRIPTION:Need to shake off the stress? \nStep into happy at the Rogers City Senior Center. Join us for ZUMBA on Mondays and Thursdays at 5:45 p.m.
URL:https://rcms.mcgwebdevelopment.com/event/zumba/2027-10-11/
LOCATION:Rogers City Area Senior & Community Center\, 131 Superior St\, Rogers City\, MI\, 49779\, United States
CATEGORIES:Events
ATTACH;FMTTYPE=image/webp:https://rcms.mcgwebdevelopment.com/wp-content/media/ZUMBA.webp
END:VEVENT
BEGIN:VEVENT
DTSTART;TZID=America/Detroit:20271013T073000
DTEND;TZID=America/Detroit:20271013T083000
DTSTAMP:20260422T182855
CREATED:20251125T214512Z
LAST-MODIFIED:20251125T214512Z
UID:10000023-1823412600-1823416200@rcms.mcgwebdevelopment.com
SUMMARY:Main Street/DDA Regular Meeting
DESCRIPTION:Occurs on the 2nd Wednesday of each month in the City Hall Chambers.
URL:https://rcms.mcgwebdevelopment.com/event/main-street-dda-regular-meeting/2027-10-13/
LOCATION:City of Rogers City\, 193 E Michigan Ave\, Rogers City\, MI\, 49779\, United States
CATEGORIES:Meetings
ATTACH;FMTTYPE=image/png:https://rcms.mcgwebdevelopment.com/wp-content/media/Main-Street-DDA.png
END:VEVENT
BEGIN:VEVENT
DTSTART;TZID=America/Detroit:20271013T131500
DTEND;TZID=America/Detroit:20271013T131500
DTSTAMP:20260422T182855
CREATED:20260123T000929Z
LAST-MODIFIED:20260123T002135Z
UID:10000734-1823433300-1823433300@rcms.mcgwebdevelopment.com
SUMMARY:Chair Zumba
DESCRIPTION:Come do Chair Zumba at the Rogers City Senior and Community Center taught by a certified Zumba Chair Instructor\, Melissa Tackett \nAttend any Wednesday at 1:15 that fits your schedule. It’s free of charge and lots of fun! All ages and abilities welcome! \nFree 30 minute class. Participants are seated for the entire workout. Fun music\, easy to follow moves\, stretch your body\, smile and make friends! Latin rhythms include Salsa\, Cumbia\, Merengue\, as well as Swing\, Disco and Jamaican! \n 
URL:https://rcms.mcgwebdevelopment.com/event/chair-zumba/2027-10-13/
LOCATION:Rogers City Area Senior & Community Center\, 131 Superior St\, Rogers City\, MI\, 49779\, United States
CATEGORIES:Events
ATTACH;FMTTYPE=image/webp:https://rcms.mcgwebdevelopment.com/wp-content/media/Chair-Zumba.webp
END:VEVENT
BEGIN:VEVENT
DTSTART;TZID=America/Detroit:20271014T164500
DTEND;TZID=America/Detroit:20271014T174500
DTSTAMP:20260422T182855
CREATED:20260123T002100Z
LAST-MODIFIED:20260123T002100Z
UID:10001862-1823532300-1823535900@rcms.mcgwebdevelopment.com
SUMMARY:ZUMBA Gold
DESCRIPTION:Need to shake off the stress? \nStep into happy at the Rogers City Senior Center. Join us for Zumba Gold is on Mondays and Thursdays at 4:45 p.m.
URL:https://rcms.mcgwebdevelopment.com/event/zumba-gold/2027-10-14/
LOCATION:Rogers City Area Senior & Community Center\, 131 Superior St\, Rogers City\, MI\, 49779\, United States
CATEGORIES:Events
ATTACH;FMTTYPE=image/webp:https://rcms.mcgwebdevelopment.com/wp-content/media/ZUMBA.webp
END:VEVENT
BEGIN:VEVENT
DTSTART;TZID=America/Detroit:20271014T174500
DTEND;TZID=America/Detroit:20271014T184500
DTSTAMP:20260422T182855
CREATED:20260122T223659Z
LAST-MODIFIED:20260122T224744Z
UID:10000239-1823535900-1823539500@rcms.mcgwebdevelopment.com
SUMMARY:ZUMBA
DESCRIPTION:Need to shake off the stress? \nStep into happy at the Rogers City Senior Center. Join us for ZUMBA on Mondays and Thursdays at 5:45 p.m.
URL:https://rcms.mcgwebdevelopment.com/event/zumba/2027-10-14/
LOCATION:Rogers City Area Senior & Community Center\, 131 Superior St\, Rogers City\, MI\, 49779\, United States
CATEGORIES:Events
ATTACH;FMTTYPE=image/webp:https://rcms.mcgwebdevelopment.com/wp-content/media/ZUMBA.webp
END:VEVENT
END:VCALENDAR