BEGIN:VCALENDAR
VERSION:2.0
PRODID:-//Downtown Rogers City - ECPv6.15.20//NONSGML v1.0//EN
CALSCALE:GREGORIAN
METHOD:PUBLISH
X-WR-CALNAME:Downtown Rogers City
X-ORIGINAL-URL:https://rcms.mcgwebdevelopment.com
X-WR-CALDESC:Events for Downtown Rogers City
REFRESH-INTERVAL;VALUE=DURATION:PT1H
X-Robots-Tag:noindex
X-PUBLISHED-TTL:PT1H
BEGIN:VTIMEZONE
TZID:America/Detroit
BEGIN:DAYLIGHT
TZOFFSETFROM:-0500
TZOFFSETTO:-0400
TZNAME:EDT
DTSTART:20270314T070000
END:DAYLIGHT
BEGIN:STANDARD
TZOFFSETFROM:-0400
TZOFFSETTO:-0500
TZNAME:EST
DTSTART:20271107T060000
END:STANDARD
BEGIN:DAYLIGHT
TZOFFSETFROM:-0500
TZOFFSETTO:-0400
TZNAME:EDT
DTSTART:20280312T070000
END:DAYLIGHT
BEGIN:STANDARD
TZOFFSETFROM:-0400
TZOFFSETTO:-0500
TZNAME:EST
DTSTART:20281105T060000
END:STANDARD
BEGIN:DAYLIGHT
TZOFFSETFROM:-0500
TZOFFSETTO:-0400
TZNAME:EDT
DTSTART:20290311T070000
END:DAYLIGHT
BEGIN:STANDARD
TZOFFSETFROM:-0400
TZOFFSETTO:-0500
TZNAME:EST
DTSTART:20291104T060000
END:STANDARD
END:VTIMEZONE
BEGIN:VEVENT
DTSTART;TZID=America/Detroit:20280420T164500
DTEND;TZID=America/Detroit:20280420T174500
DTSTAMP:20260425T102545
CREATED:20260123T002100Z
LAST-MODIFIED:20260123T002100Z
UID:10001916-1839861900-1839865500@rcms.mcgwebdevelopment.com
SUMMARY:ZUMBA Gold
DESCRIPTION:Need to shake off the stress? \nStep into happy at the Rogers City Senior Center. Join us for Zumba Gold is on Mondays and Thursdays at 4:45 p.m.
URL:https://rcms.mcgwebdevelopment.com/event/zumba-gold/2028-04-20/
LOCATION:Rogers City Area Senior & Community Center\, 131 Superior St\, Rogers City\, MI\, 49779\, United States
CATEGORIES:Events
ATTACH;FMTTYPE=image/webp:https://rcms.mcgwebdevelopment.com/wp-content/media/ZUMBA.webp
END:VEVENT
BEGIN:VEVENT
DTSTART;TZID=America/Detroit:20280420T174500
DTEND;TZID=America/Detroit:20280420T184500
DTSTAMP:20260425T102545
CREATED:20260122T223659Z
LAST-MODIFIED:20260122T224744Z
UID:10000293-1839865500-1839869100@rcms.mcgwebdevelopment.com
SUMMARY:ZUMBA
DESCRIPTION:Need to shake off the stress? \nStep into happy at the Rogers City Senior Center. Join us for ZUMBA on Mondays and Thursdays at 5:45 p.m.
URL:https://rcms.mcgwebdevelopment.com/event/zumba/2028-04-20/
LOCATION:Rogers City Area Senior & Community Center\, 131 Superior St\, Rogers City\, MI\, 49779\, United States
CATEGORIES:Events
ATTACH;FMTTYPE=image/webp:https://rcms.mcgwebdevelopment.com/wp-content/media/ZUMBA.webp
END:VEVENT
BEGIN:VEVENT
DTSTART;TZID=America/Detroit:20280424T164500
DTEND;TZID=America/Detroit:20280424T174500
DTSTAMP:20260425T102545
CREATED:20260123T002100Z
LAST-MODIFIED:20260123T002100Z
UID:10001917-1840207500-1840211100@rcms.mcgwebdevelopment.com
SUMMARY:ZUMBA Gold
DESCRIPTION:Need to shake off the stress? \nStep into happy at the Rogers City Senior Center. Join us for Zumba Gold is on Mondays and Thursdays at 4:45 p.m.
URL:https://rcms.mcgwebdevelopment.com/event/zumba-gold/2028-04-24/
LOCATION:Rogers City Area Senior & Community Center\, 131 Superior St\, Rogers City\, MI\, 49779\, United States
CATEGORIES:Events
ATTACH;FMTTYPE=image/webp:https://rcms.mcgwebdevelopment.com/wp-content/media/ZUMBA.webp
END:VEVENT
BEGIN:VEVENT
DTSTART;TZID=America/Detroit:20280424T174500
DTEND;TZID=America/Detroit:20280424T184500
DTSTAMP:20260425T102545
CREATED:20260122T223659Z
LAST-MODIFIED:20260122T224744Z
UID:10000294-1840211100-1840214700@rcms.mcgwebdevelopment.com
SUMMARY:ZUMBA
DESCRIPTION:Need to shake off the stress? \nStep into happy at the Rogers City Senior Center. Join us for ZUMBA on Mondays and Thursdays at 5:45 p.m.
URL:https://rcms.mcgwebdevelopment.com/event/zumba/2028-04-24/
LOCATION:Rogers City Area Senior & Community Center\, 131 Superior St\, Rogers City\, MI\, 49779\, United States
CATEGORIES:Events
ATTACH;FMTTYPE=image/webp:https://rcms.mcgwebdevelopment.com/wp-content/media/ZUMBA.webp
END:VEVENT
BEGIN:VEVENT
DTSTART;TZID=America/Detroit:20280426T131500
DTEND;TZID=America/Detroit:20280426T131500
DTSTAMP:20260425T102545
CREATED:20260123T000929Z
LAST-MODIFIED:20260123T002135Z
UID:10000762-1840367700-1840367700@rcms.mcgwebdevelopment.com
SUMMARY:Chair Zumba
DESCRIPTION:Come do Chair Zumba at the Rogers City Senior and Community Center taught by a certified Zumba Chair Instructor\, Melissa Tackett \nAttend any Wednesday at 1:15 that fits your schedule. It’s free of charge and lots of fun! All ages and abilities welcome! \nFree 30 minute class. Participants are seated for the entire workout. Fun music\, easy to follow moves\, stretch your body\, smile and make friends! Latin rhythms include Salsa\, Cumbia\, Merengue\, as well as Swing\, Disco and Jamaican! \n 
URL:https://rcms.mcgwebdevelopment.com/event/chair-zumba/2028-04-26/
LOCATION:Rogers City Area Senior & Community Center\, 131 Superior St\, Rogers City\, MI\, 49779\, United States
CATEGORIES:Events
ATTACH;FMTTYPE=image/webp:https://rcms.mcgwebdevelopment.com/wp-content/media/Chair-Zumba.webp
END:VEVENT
BEGIN:VEVENT
DTSTART;TZID=America/Detroit:20280427T164500
DTEND;TZID=America/Detroit:20280427T174500
DTSTAMP:20260425T102545
CREATED:20260123T002100Z
LAST-MODIFIED:20260123T002100Z
UID:10001918-1840466700-1840470300@rcms.mcgwebdevelopment.com
SUMMARY:ZUMBA Gold
DESCRIPTION:Need to shake off the stress? \nStep into happy at the Rogers City Senior Center. Join us for Zumba Gold is on Mondays and Thursdays at 4:45 p.m.
URL:https://rcms.mcgwebdevelopment.com/event/zumba-gold/2028-04-27/
LOCATION:Rogers City Area Senior & Community Center\, 131 Superior St\, Rogers City\, MI\, 49779\, United States
CATEGORIES:Events
ATTACH;FMTTYPE=image/webp:https://rcms.mcgwebdevelopment.com/wp-content/media/ZUMBA.webp
END:VEVENT
BEGIN:VEVENT
DTSTART;TZID=America/Detroit:20280427T174500
DTEND;TZID=America/Detroit:20280427T184500
DTSTAMP:20260425T102545
CREATED:20260122T223659Z
LAST-MODIFIED:20260122T224744Z
UID:10000295-1840470300-1840473900@rcms.mcgwebdevelopment.com
SUMMARY:ZUMBA
DESCRIPTION:Need to shake off the stress? \nStep into happy at the Rogers City Senior Center. Join us for ZUMBA on Mondays and Thursdays at 5:45 p.m.
URL:https://rcms.mcgwebdevelopment.com/event/zumba/2028-04-27/
LOCATION:Rogers City Area Senior & Community Center\, 131 Superior St\, Rogers City\, MI\, 49779\, United States
CATEGORIES:Events
ATTACH;FMTTYPE=image/webp:https://rcms.mcgwebdevelopment.com/wp-content/media/ZUMBA.webp
END:VEVENT
BEGIN:VEVENT
DTSTART;TZID=America/Detroit:20280501T164500
DTEND;TZID=America/Detroit:20280501T174500
DTSTAMP:20260425T102545
CREATED:20260123T002100Z
LAST-MODIFIED:20260123T002100Z
UID:10001919-1840812300-1840815900@rcms.mcgwebdevelopment.com
SUMMARY:ZUMBA Gold
DESCRIPTION:Need to shake off the stress? \nStep into happy at the Rogers City Senior Center. Join us for Zumba Gold is on Mondays and Thursdays at 4:45 p.m.
URL:https://rcms.mcgwebdevelopment.com/event/zumba-gold/2028-05-01/
LOCATION:Rogers City Area Senior & Community Center\, 131 Superior St\, Rogers City\, MI\, 49779\, United States
CATEGORIES:Events
ATTACH;FMTTYPE=image/webp:https://rcms.mcgwebdevelopment.com/wp-content/media/ZUMBA.webp
END:VEVENT
BEGIN:VEVENT
DTSTART;TZID=America/Detroit:20280501T174500
DTEND;TZID=America/Detroit:20280501T184500
DTSTAMP:20260425T102545
CREATED:20260122T223659Z
LAST-MODIFIED:20260122T224744Z
UID:10000296-1840815900-1840819500@rcms.mcgwebdevelopment.com
SUMMARY:ZUMBA
DESCRIPTION:Need to shake off the stress? \nStep into happy at the Rogers City Senior Center. Join us for ZUMBA on Mondays and Thursdays at 5:45 p.m.
URL:https://rcms.mcgwebdevelopment.com/event/zumba/2028-05-01/
LOCATION:Rogers City Area Senior & Community Center\, 131 Superior St\, Rogers City\, MI\, 49779\, United States
CATEGORIES:Events
ATTACH;FMTTYPE=image/webp:https://rcms.mcgwebdevelopment.com/wp-content/media/ZUMBA.webp
END:VEVENT
BEGIN:VEVENT
DTSTART;TZID=America/Detroit:20280503T131500
DTEND;TZID=America/Detroit:20280503T131500
DTSTAMP:20260425T102545
CREATED:20260123T000929Z
LAST-MODIFIED:20260123T002135Z
UID:10000763-1840972500-1840972500@rcms.mcgwebdevelopment.com
SUMMARY:Chair Zumba
DESCRIPTION:Come do Chair Zumba at the Rogers City Senior and Community Center taught by a certified Zumba Chair Instructor\, Melissa Tackett \nAttend any Wednesday at 1:15 that fits your schedule. It’s free of charge and lots of fun! All ages and abilities welcome! \nFree 30 minute class. Participants are seated for the entire workout. Fun music\, easy to follow moves\, stretch your body\, smile and make friends! Latin rhythms include Salsa\, Cumbia\, Merengue\, as well as Swing\, Disco and Jamaican! \n 
URL:https://rcms.mcgwebdevelopment.com/event/chair-zumba/2028-05-03/
LOCATION:Rogers City Area Senior & Community Center\, 131 Superior St\, Rogers City\, MI\, 49779\, United States
CATEGORIES:Events
ATTACH;FMTTYPE=image/webp:https://rcms.mcgwebdevelopment.com/wp-content/media/Chair-Zumba.webp
END:VEVENT
BEGIN:VEVENT
DTSTART;TZID=America/Detroit:20280504T164500
DTEND;TZID=America/Detroit:20280504T174500
DTSTAMP:20260425T102545
CREATED:20260123T002100Z
LAST-MODIFIED:20260123T002100Z
UID:10001920-1841071500-1841075100@rcms.mcgwebdevelopment.com
SUMMARY:ZUMBA Gold
DESCRIPTION:Need to shake off the stress? \nStep into happy at the Rogers City Senior Center. Join us for Zumba Gold is on Mondays and Thursdays at 4:45 p.m.
URL:https://rcms.mcgwebdevelopment.com/event/zumba-gold/2028-05-04/
LOCATION:Rogers City Area Senior & Community Center\, 131 Superior St\, Rogers City\, MI\, 49779\, United States
CATEGORIES:Events
ATTACH;FMTTYPE=image/webp:https://rcms.mcgwebdevelopment.com/wp-content/media/ZUMBA.webp
END:VEVENT
BEGIN:VEVENT
DTSTART;TZID=America/Detroit:20280504T174500
DTEND;TZID=America/Detroit:20280504T184500
DTSTAMP:20260425T102545
CREATED:20260122T223659Z
LAST-MODIFIED:20260122T224744Z
UID:10000297-1841075100-1841078700@rcms.mcgwebdevelopment.com
SUMMARY:ZUMBA
DESCRIPTION:Need to shake off the stress? \nStep into happy at the Rogers City Senior Center. Join us for ZUMBA on Mondays and Thursdays at 5:45 p.m.
URL:https://rcms.mcgwebdevelopment.com/event/zumba/2028-05-04/
LOCATION:Rogers City Area Senior & Community Center\, 131 Superior St\, Rogers City\, MI\, 49779\, United States
CATEGORIES:Events
ATTACH;FMTTYPE=image/webp:https://rcms.mcgwebdevelopment.com/wp-content/media/ZUMBA.webp
END:VEVENT
BEGIN:VEVENT
DTSTART;TZID=America/Detroit:20280508T164500
DTEND;TZID=America/Detroit:20280508T174500
DTSTAMP:20260425T102545
CREATED:20260123T002100Z
LAST-MODIFIED:20260123T002100Z
UID:10001921-1841417100-1841420700@rcms.mcgwebdevelopment.com
SUMMARY:ZUMBA Gold
DESCRIPTION:Need to shake off the stress? \nStep into happy at the Rogers City Senior Center. Join us for Zumba Gold is on Mondays and Thursdays at 4:45 p.m.
URL:https://rcms.mcgwebdevelopment.com/event/zumba-gold/2028-05-08/
LOCATION:Rogers City Area Senior & Community Center\, 131 Superior St\, Rogers City\, MI\, 49779\, United States
CATEGORIES:Events
ATTACH;FMTTYPE=image/webp:https://rcms.mcgwebdevelopment.com/wp-content/media/ZUMBA.webp
END:VEVENT
BEGIN:VEVENT
DTSTART;TZID=America/Detroit:20280508T174500
DTEND;TZID=America/Detroit:20280508T184500
DTSTAMP:20260425T102545
CREATED:20260122T223659Z
LAST-MODIFIED:20260122T224744Z
UID:10000298-1841420700-1841424300@rcms.mcgwebdevelopment.com
SUMMARY:ZUMBA
DESCRIPTION:Need to shake off the stress? \nStep into happy at the Rogers City Senior Center. Join us for ZUMBA on Mondays and Thursdays at 5:45 p.m.
URL:https://rcms.mcgwebdevelopment.com/event/zumba/2028-05-08/
LOCATION:Rogers City Area Senior & Community Center\, 131 Superior St\, Rogers City\, MI\, 49779\, United States
CATEGORIES:Events
ATTACH;FMTTYPE=image/webp:https://rcms.mcgwebdevelopment.com/wp-content/media/ZUMBA.webp
END:VEVENT
BEGIN:VEVENT
DTSTART;TZID=America/Detroit:20280510T073000
DTEND;TZID=America/Detroit:20280510T083000
DTSTAMP:20260425T102545
CREATED:20251125T214512Z
LAST-MODIFIED:20251125T214512Z
UID:10000030-1841556600-1841560200@rcms.mcgwebdevelopment.com
SUMMARY:Main Street/DDA Regular Meeting
DESCRIPTION:Occurs on the 2nd Wednesday of each month in the City Hall Chambers.
URL:https://rcms.mcgwebdevelopment.com/event/main-street-dda-regular-meeting/2028-05-10/
LOCATION:City of Rogers City\, 193 E Michigan Ave\, Rogers City\, MI\, 49779\, United States
CATEGORIES:Meetings
ATTACH;FMTTYPE=image/png:https://rcms.mcgwebdevelopment.com/wp-content/media/Main-Street-DDA.png
END:VEVENT
BEGIN:VEVENT
DTSTART;TZID=America/Detroit:20280510T131500
DTEND;TZID=America/Detroit:20280510T131500
DTSTAMP:20260425T102545
CREATED:20260123T000929Z
LAST-MODIFIED:20260123T002135Z
UID:10000764-1841577300-1841577300@rcms.mcgwebdevelopment.com
SUMMARY:Chair Zumba
DESCRIPTION:Come do Chair Zumba at the Rogers City Senior and Community Center taught by a certified Zumba Chair Instructor\, Melissa Tackett \nAttend any Wednesday at 1:15 that fits your schedule. It’s free of charge and lots of fun! All ages and abilities welcome! \nFree 30 minute class. Participants are seated for the entire workout. Fun music\, easy to follow moves\, stretch your body\, smile and make friends! Latin rhythms include Salsa\, Cumbia\, Merengue\, as well as Swing\, Disco and Jamaican! \n 
URL:https://rcms.mcgwebdevelopment.com/event/chair-zumba/2028-05-10/
LOCATION:Rogers City Area Senior & Community Center\, 131 Superior St\, Rogers City\, MI\, 49779\, United States
CATEGORIES:Events
ATTACH;FMTTYPE=image/webp:https://rcms.mcgwebdevelopment.com/wp-content/media/Chair-Zumba.webp
END:VEVENT
BEGIN:VEVENT
DTSTART;TZID=America/Detroit:20280511T164500
DTEND;TZID=America/Detroit:20280511T174500
DTSTAMP:20260425T102545
CREATED:20260123T002100Z
LAST-MODIFIED:20260123T002100Z
UID:10001922-1841676300-1841679900@rcms.mcgwebdevelopment.com
SUMMARY:ZUMBA Gold
DESCRIPTION:Need to shake off the stress? \nStep into happy at the Rogers City Senior Center. Join us for Zumba Gold is on Mondays and Thursdays at 4:45 p.m.
URL:https://rcms.mcgwebdevelopment.com/event/zumba-gold/2028-05-11/
LOCATION:Rogers City Area Senior & Community Center\, 131 Superior St\, Rogers City\, MI\, 49779\, United States
CATEGORIES:Events
ATTACH;FMTTYPE=image/webp:https://rcms.mcgwebdevelopment.com/wp-content/media/ZUMBA.webp
END:VEVENT
BEGIN:VEVENT
DTSTART;TZID=America/Detroit:20280511T174500
DTEND;TZID=America/Detroit:20280511T184500
DTSTAMP:20260425T102545
CREATED:20260122T223659Z
LAST-MODIFIED:20260122T224744Z
UID:10000299-1841679900-1841683500@rcms.mcgwebdevelopment.com
SUMMARY:ZUMBA
DESCRIPTION:Need to shake off the stress? \nStep into happy at the Rogers City Senior Center. Join us for ZUMBA on Mondays and Thursdays at 5:45 p.m.
URL:https://rcms.mcgwebdevelopment.com/event/zumba/2028-05-11/
LOCATION:Rogers City Area Senior & Community Center\, 131 Superior St\, Rogers City\, MI\, 49779\, United States
CATEGORIES:Events
ATTACH;FMTTYPE=image/webp:https://rcms.mcgwebdevelopment.com/wp-content/media/ZUMBA.webp
END:VEVENT
BEGIN:VEVENT
DTSTART;TZID=America/Detroit:20280515T164500
DTEND;TZID=America/Detroit:20280515T174500
DTSTAMP:20260425T102545
CREATED:20260123T002100Z
LAST-MODIFIED:20260123T002100Z
UID:10001923-1842021900-1842025500@rcms.mcgwebdevelopment.com
SUMMARY:ZUMBA Gold
DESCRIPTION:Need to shake off the stress? \nStep into happy at the Rogers City Senior Center. Join us for Zumba Gold is on Mondays and Thursdays at 4:45 p.m.
URL:https://rcms.mcgwebdevelopment.com/event/zumba-gold/2028-05-15/
LOCATION:Rogers City Area Senior & Community Center\, 131 Superior St\, Rogers City\, MI\, 49779\, United States
CATEGORIES:Events
ATTACH;FMTTYPE=image/webp:https://rcms.mcgwebdevelopment.com/wp-content/media/ZUMBA.webp
END:VEVENT
BEGIN:VEVENT
DTSTART;TZID=America/Detroit:20280515T174500
DTEND;TZID=America/Detroit:20280515T184500
DTSTAMP:20260425T102545
CREATED:20260122T223659Z
LAST-MODIFIED:20260122T224744Z
UID:10000300-1842025500-1842029100@rcms.mcgwebdevelopment.com
SUMMARY:ZUMBA
DESCRIPTION:Need to shake off the stress? \nStep into happy at the Rogers City Senior Center. Join us for ZUMBA on Mondays and Thursdays at 5:45 p.m.
URL:https://rcms.mcgwebdevelopment.com/event/zumba/2028-05-15/
LOCATION:Rogers City Area Senior & Community Center\, 131 Superior St\, Rogers City\, MI\, 49779\, United States
CATEGORIES:Events
ATTACH;FMTTYPE=image/webp:https://rcms.mcgwebdevelopment.com/wp-content/media/ZUMBA.webp
END:VEVENT
BEGIN:VEVENT
DTSTART;TZID=America/Detroit:20280517T131500
DTEND;TZID=America/Detroit:20280517T131500
DTSTAMP:20260425T102545
CREATED:20260123T000929Z
LAST-MODIFIED:20260123T002135Z
UID:10000765-1842182100-1842182100@rcms.mcgwebdevelopment.com
SUMMARY:Chair Zumba
DESCRIPTION:Come do Chair Zumba at the Rogers City Senior and Community Center taught by a certified Zumba Chair Instructor\, Melissa Tackett \nAttend any Wednesday at 1:15 that fits your schedule. It’s free of charge and lots of fun! All ages and abilities welcome! \nFree 30 minute class. Participants are seated for the entire workout. Fun music\, easy to follow moves\, stretch your body\, smile and make friends! Latin rhythms include Salsa\, Cumbia\, Merengue\, as well as Swing\, Disco and Jamaican! \n 
URL:https://rcms.mcgwebdevelopment.com/event/chair-zumba/2028-05-17/
LOCATION:Rogers City Area Senior & Community Center\, 131 Superior St\, Rogers City\, MI\, 49779\, United States
CATEGORIES:Events
ATTACH;FMTTYPE=image/webp:https://rcms.mcgwebdevelopment.com/wp-content/media/Chair-Zumba.webp
END:VEVENT
BEGIN:VEVENT
DTSTART;TZID=America/Detroit:20280518T164500
DTEND;TZID=America/Detroit:20280518T174500
DTSTAMP:20260425T102545
CREATED:20260123T002100Z
LAST-MODIFIED:20260123T002100Z
UID:10001924-1842281100-1842284700@rcms.mcgwebdevelopment.com
SUMMARY:ZUMBA Gold
DESCRIPTION:Need to shake off the stress? \nStep into happy at the Rogers City Senior Center. Join us for Zumba Gold is on Mondays and Thursdays at 4:45 p.m.
URL:https://rcms.mcgwebdevelopment.com/event/zumba-gold/2028-05-18/
LOCATION:Rogers City Area Senior & Community Center\, 131 Superior St\, Rogers City\, MI\, 49779\, United States
CATEGORIES:Events
ATTACH;FMTTYPE=image/webp:https://rcms.mcgwebdevelopment.com/wp-content/media/ZUMBA.webp
END:VEVENT
BEGIN:VEVENT
DTSTART;TZID=America/Detroit:20280518T174500
DTEND;TZID=America/Detroit:20280518T184500
DTSTAMP:20260425T102545
CREATED:20260122T223659Z
LAST-MODIFIED:20260122T224744Z
UID:10000301-1842284700-1842288300@rcms.mcgwebdevelopment.com
SUMMARY:ZUMBA
DESCRIPTION:Need to shake off the stress? \nStep into happy at the Rogers City Senior Center. Join us for ZUMBA on Mondays and Thursdays at 5:45 p.m.
URL:https://rcms.mcgwebdevelopment.com/event/zumba/2028-05-18/
LOCATION:Rogers City Area Senior & Community Center\, 131 Superior St\, Rogers City\, MI\, 49779\, United States
CATEGORIES:Events
ATTACH;FMTTYPE=image/webp:https://rcms.mcgwebdevelopment.com/wp-content/media/ZUMBA.webp
END:VEVENT
BEGIN:VEVENT
DTSTART;TZID=America/Detroit:20280522T164500
DTEND;TZID=America/Detroit:20280522T174500
DTSTAMP:20260425T102545
CREATED:20260123T002100Z
LAST-MODIFIED:20260123T002100Z
UID:10001925-1842626700-1842630300@rcms.mcgwebdevelopment.com
SUMMARY:ZUMBA Gold
DESCRIPTION:Need to shake off the stress? \nStep into happy at the Rogers City Senior Center. Join us for Zumba Gold is on Mondays and Thursdays at 4:45 p.m.
URL:https://rcms.mcgwebdevelopment.com/event/zumba-gold/2028-05-22/
LOCATION:Rogers City Area Senior & Community Center\, 131 Superior St\, Rogers City\, MI\, 49779\, United States
CATEGORIES:Events
ATTACH;FMTTYPE=image/webp:https://rcms.mcgwebdevelopment.com/wp-content/media/ZUMBA.webp
END:VEVENT
BEGIN:VEVENT
DTSTART;TZID=America/Detroit:20280522T174500
DTEND;TZID=America/Detroit:20280522T184500
DTSTAMP:20260425T102545
CREATED:20260122T223659Z
LAST-MODIFIED:20260122T224744Z
UID:10000302-1842630300-1842633900@rcms.mcgwebdevelopment.com
SUMMARY:ZUMBA
DESCRIPTION:Need to shake off the stress? \nStep into happy at the Rogers City Senior Center. Join us for ZUMBA on Mondays and Thursdays at 5:45 p.m.
URL:https://rcms.mcgwebdevelopment.com/event/zumba/2028-05-22/
LOCATION:Rogers City Area Senior & Community Center\, 131 Superior St\, Rogers City\, MI\, 49779\, United States
CATEGORIES:Events
ATTACH;FMTTYPE=image/webp:https://rcms.mcgwebdevelopment.com/wp-content/media/ZUMBA.webp
END:VEVENT
BEGIN:VEVENT
DTSTART;TZID=America/Detroit:20280524T131500
DTEND;TZID=America/Detroit:20280524T131500
DTSTAMP:20260425T102545
CREATED:20260123T000929Z
LAST-MODIFIED:20260123T002135Z
UID:10000766-1842786900-1842786900@rcms.mcgwebdevelopment.com
SUMMARY:Chair Zumba
DESCRIPTION:Come do Chair Zumba at the Rogers City Senior and Community Center taught by a certified Zumba Chair Instructor\, Melissa Tackett \nAttend any Wednesday at 1:15 that fits your schedule. It’s free of charge and lots of fun! All ages and abilities welcome! \nFree 30 minute class. Participants are seated for the entire workout. Fun music\, easy to follow moves\, stretch your body\, smile and make friends! Latin rhythms include Salsa\, Cumbia\, Merengue\, as well as Swing\, Disco and Jamaican! \n 
URL:https://rcms.mcgwebdevelopment.com/event/chair-zumba/2028-05-24/
LOCATION:Rogers City Area Senior & Community Center\, 131 Superior St\, Rogers City\, MI\, 49779\, United States
CATEGORIES:Events
ATTACH;FMTTYPE=image/webp:https://rcms.mcgwebdevelopment.com/wp-content/media/Chair-Zumba.webp
END:VEVENT
BEGIN:VEVENT
DTSTART;TZID=America/Detroit:20280525T164500
DTEND;TZID=America/Detroit:20280525T174500
DTSTAMP:20260425T102545
CREATED:20260123T002100Z
LAST-MODIFIED:20260123T002100Z
UID:10001926-1842885900-1842889500@rcms.mcgwebdevelopment.com
SUMMARY:ZUMBA Gold
DESCRIPTION:Need to shake off the stress? \nStep into happy at the Rogers City Senior Center. Join us for Zumba Gold is on Mondays and Thursdays at 4:45 p.m.
URL:https://rcms.mcgwebdevelopment.com/event/zumba-gold/2028-05-25/
LOCATION:Rogers City Area Senior & Community Center\, 131 Superior St\, Rogers City\, MI\, 49779\, United States
CATEGORIES:Events
ATTACH;FMTTYPE=image/webp:https://rcms.mcgwebdevelopment.com/wp-content/media/ZUMBA.webp
END:VEVENT
BEGIN:VEVENT
DTSTART;TZID=America/Detroit:20280525T174500
DTEND;TZID=America/Detroit:20280525T184500
DTSTAMP:20260425T102545
CREATED:20260122T223659Z
LAST-MODIFIED:20260122T224744Z
UID:10000303-1842889500-1842893100@rcms.mcgwebdevelopment.com
SUMMARY:ZUMBA
DESCRIPTION:Need to shake off the stress? \nStep into happy at the Rogers City Senior Center. Join us for ZUMBA on Mondays and Thursdays at 5:45 p.m.
URL:https://rcms.mcgwebdevelopment.com/event/zumba/2028-05-25/
LOCATION:Rogers City Area Senior & Community Center\, 131 Superior St\, Rogers City\, MI\, 49779\, United States
CATEGORIES:Events
ATTACH;FMTTYPE=image/webp:https://rcms.mcgwebdevelopment.com/wp-content/media/ZUMBA.webp
END:VEVENT
BEGIN:VEVENT
DTSTART;TZID=America/Detroit:20280529T164500
DTEND;TZID=America/Detroit:20280529T174500
DTSTAMP:20260425T102545
CREATED:20260123T002100Z
LAST-MODIFIED:20260123T002100Z
UID:10001927-1843231500-1843235100@rcms.mcgwebdevelopment.com
SUMMARY:ZUMBA Gold
DESCRIPTION:Need to shake off the stress? \nStep into happy at the Rogers City Senior Center. Join us for Zumba Gold is on Mondays and Thursdays at 4:45 p.m.
URL:https://rcms.mcgwebdevelopment.com/event/zumba-gold/2028-05-29/
LOCATION:Rogers City Area Senior & Community Center\, 131 Superior St\, Rogers City\, MI\, 49779\, United States
CATEGORIES:Events
ATTACH;FMTTYPE=image/webp:https://rcms.mcgwebdevelopment.com/wp-content/media/ZUMBA.webp
END:VEVENT
BEGIN:VEVENT
DTSTART;TZID=America/Detroit:20280529T174500
DTEND;TZID=America/Detroit:20280529T184500
DTSTAMP:20260425T102545
CREATED:20260122T223659Z
LAST-MODIFIED:20260122T224744Z
UID:10000304-1843235100-1843238700@rcms.mcgwebdevelopment.com
SUMMARY:ZUMBA
DESCRIPTION:Need to shake off the stress? \nStep into happy at the Rogers City Senior Center. Join us for ZUMBA on Mondays and Thursdays at 5:45 p.m.
URL:https://rcms.mcgwebdevelopment.com/event/zumba/2028-05-29/
LOCATION:Rogers City Area Senior & Community Center\, 131 Superior St\, Rogers City\, MI\, 49779\, United States
CATEGORIES:Events
ATTACH;FMTTYPE=image/webp:https://rcms.mcgwebdevelopment.com/wp-content/media/ZUMBA.webp
END:VEVENT
END:VCALENDAR