BEGIN:VCALENDAR
VERSION:2.0
PRODID:-//Downtown Rogers City - ECPv6.15.20//NONSGML v1.0//EN
CALSCALE:GREGORIAN
METHOD:PUBLISH
X-WR-CALNAME:Downtown Rogers City
X-ORIGINAL-URL:https://rcms.mcgwebdevelopment.com
X-WR-CALDESC:Events for Downtown Rogers City
REFRESH-INTERVAL;VALUE=DURATION:PT1H
X-Robots-Tag:noindex
X-PUBLISHED-TTL:PT1H
BEGIN:VTIMEZONE
TZID:America/Detroit
BEGIN:DAYLIGHT
TZOFFSETFROM:-0500
TZOFFSETTO:-0400
TZNAME:EDT
DTSTART:20260308T070000
END:DAYLIGHT
BEGIN:STANDARD
TZOFFSETFROM:-0400
TZOFFSETTO:-0500
TZNAME:EST
DTSTART:20261101T060000
END:STANDARD
BEGIN:DAYLIGHT
TZOFFSETFROM:-0500
TZOFFSETTO:-0400
TZNAME:EDT
DTSTART:20270314T070000
END:DAYLIGHT
BEGIN:STANDARD
TZOFFSETFROM:-0400
TZOFFSETTO:-0500
TZNAME:EST
DTSTART:20271107T060000
END:STANDARD
BEGIN:DAYLIGHT
TZOFFSETFROM:-0500
TZOFFSETTO:-0400
TZNAME:EDT
DTSTART:20280312T070000
END:DAYLIGHT
BEGIN:STANDARD
TZOFFSETFROM:-0400
TZOFFSETTO:-0500
TZNAME:EST
DTSTART:20281105T060000
END:STANDARD
END:VTIMEZONE
BEGIN:VEVENT
DTSTART;TZID=America/Detroit:20270419T174500
DTEND;TZID=America/Detroit:20270419T184500
DTSTAMP:20260421T140316
CREATED:20260122T223659Z
LAST-MODIFIED:20260122T224744Z
UID:10000188-1808156700-1808160300@rcms.mcgwebdevelopment.com
SUMMARY:ZUMBA
DESCRIPTION:Need to shake off the stress? \nStep into happy at the Rogers City Senior Center. Join us for ZUMBA on Mondays and Thursdays at 5:45 p.m.
URL:https://rcms.mcgwebdevelopment.com/event/zumba/2027-04-19/
LOCATION:Rogers City Area Senior & Community Center\, 131 Superior St\, Rogers City\, MI\, 49779\, United States
CATEGORIES:Events
ATTACH;FMTTYPE=image/webp:https://rcms.mcgwebdevelopment.com/wp-content/media/ZUMBA.webp
END:VEVENT
BEGIN:VEVENT
DTSTART;TZID=America/Detroit:20270419T180000
DTEND;TZID=America/Detroit:20270419T180000
DTSTAMP:20260421T140316
CREATED:20260122T234359Z
LAST-MODIFIED:20260122T234359Z
UID:10000644-1808157600-1808157600@rcms.mcgwebdevelopment.com
SUMMARY:Cornhole
DESCRIPTION:Head to the VFW Post 607 for Cornhole! It will be held every Monday during the winter months starting at 6 p.m. Cornhole will take place in the upstairs hall.
URL:https://rcms.mcgwebdevelopment.com/event/cornhole/2027-04-19/
LOCATION:VFW Post 607\, 1316 W 3rd St\, Rogers City\, 49779\, United States
CATEGORIES:Events
ATTACH;FMTTYPE=image/webp:https://rcms.mcgwebdevelopment.com/wp-content/media/Cornhole.webp
END:VEVENT
BEGIN:VEVENT
DTSTART;TZID=America/Detroit:20270421T131500
DTEND;TZID=America/Detroit:20270421T131500
DTSTAMP:20260421T140316
CREATED:20260123T000929Z
LAST-MODIFIED:20260123T002135Z
UID:10000709-1808313300-1808313300@rcms.mcgwebdevelopment.com
SUMMARY:Chair Zumba
DESCRIPTION:Come do Chair Zumba at the Rogers City Senior and Community Center taught by a certified Zumba Chair Instructor\, Melissa Tackett \nAttend any Wednesday at 1:15 that fits your schedule. It’s free of charge and lots of fun! All ages and abilities welcome! \nFree 30 minute class. Participants are seated for the entire workout. Fun music\, easy to follow moves\, stretch your body\, smile and make friends! Latin rhythms include Salsa\, Cumbia\, Merengue\, as well as Swing\, Disco and Jamaican! \n 
URL:https://rcms.mcgwebdevelopment.com/event/chair-zumba/2027-04-21/
LOCATION:Rogers City Area Senior & Community Center\, 131 Superior St\, Rogers City\, MI\, 49779\, United States
CATEGORIES:Events
ATTACH;FMTTYPE=image/webp:https://rcms.mcgwebdevelopment.com/wp-content/media/Chair-Zumba.webp
END:VEVENT
BEGIN:VEVENT
DTSTART;TZID=America/Detroit:20270422T164500
DTEND;TZID=America/Detroit:20270422T174500
DTSTAMP:20260421T140316
CREATED:20260123T002100Z
LAST-MODIFIED:20260123T002100Z
UID:10001812-1808412300-1808415900@rcms.mcgwebdevelopment.com
SUMMARY:ZUMBA Gold
DESCRIPTION:Need to shake off the stress? \nStep into happy at the Rogers City Senior Center. Join us for Zumba Gold is on Mondays and Thursdays at 4:45 p.m.
URL:https://rcms.mcgwebdevelopment.com/event/zumba-gold/2027-04-22/
LOCATION:Rogers City Area Senior & Community Center\, 131 Superior St\, Rogers City\, MI\, 49779\, United States
CATEGORIES:Events
ATTACH;FMTTYPE=image/webp:https://rcms.mcgwebdevelopment.com/wp-content/media/ZUMBA.webp
END:VEVENT
BEGIN:VEVENT
DTSTART;TZID=America/Detroit:20270422T174500
DTEND;TZID=America/Detroit:20270422T184500
DTSTAMP:20260421T140316
CREATED:20260122T223659Z
LAST-MODIFIED:20260122T224744Z
UID:10000189-1808415900-1808419500@rcms.mcgwebdevelopment.com
SUMMARY:ZUMBA
DESCRIPTION:Need to shake off the stress? \nStep into happy at the Rogers City Senior Center. Join us for ZUMBA on Mondays and Thursdays at 5:45 p.m.
URL:https://rcms.mcgwebdevelopment.com/event/zumba/2027-04-22/
LOCATION:Rogers City Area Senior & Community Center\, 131 Superior St\, Rogers City\, MI\, 49779\, United States
CATEGORIES:Events
ATTACH;FMTTYPE=image/webp:https://rcms.mcgwebdevelopment.com/wp-content/media/ZUMBA.webp
END:VEVENT
BEGIN:VEVENT
DTSTART;TZID=America/Detroit:20270426T164500
DTEND;TZID=America/Detroit:20270426T174500
DTSTAMP:20260421T140316
CREATED:20260123T002100Z
LAST-MODIFIED:20260123T002100Z
UID:10001813-1808757900-1808761500@rcms.mcgwebdevelopment.com
SUMMARY:ZUMBA Gold
DESCRIPTION:Need to shake off the stress? \nStep into happy at the Rogers City Senior Center. Join us for Zumba Gold is on Mondays and Thursdays at 4:45 p.m.
URL:https://rcms.mcgwebdevelopment.com/event/zumba-gold/2027-04-26/
LOCATION:Rogers City Area Senior & Community Center\, 131 Superior St\, Rogers City\, MI\, 49779\, United States
CATEGORIES:Events
ATTACH;FMTTYPE=image/webp:https://rcms.mcgwebdevelopment.com/wp-content/media/ZUMBA.webp
END:VEVENT
BEGIN:VEVENT
DTSTART;TZID=America/Detroit:20270426T174500
DTEND;TZID=America/Detroit:20270426T184500
DTSTAMP:20260421T140316
CREATED:20260122T223659Z
LAST-MODIFIED:20260122T224744Z
UID:10000190-1808761500-1808765100@rcms.mcgwebdevelopment.com
SUMMARY:ZUMBA
DESCRIPTION:Need to shake off the stress? \nStep into happy at the Rogers City Senior Center. Join us for ZUMBA on Mondays and Thursdays at 5:45 p.m.
URL:https://rcms.mcgwebdevelopment.com/event/zumba/2027-04-26/
LOCATION:Rogers City Area Senior & Community Center\, 131 Superior St\, Rogers City\, MI\, 49779\, United States
CATEGORIES:Events
ATTACH;FMTTYPE=image/webp:https://rcms.mcgwebdevelopment.com/wp-content/media/ZUMBA.webp
END:VEVENT
BEGIN:VEVENT
DTSTART;TZID=America/Detroit:20270426T180000
DTEND;TZID=America/Detroit:20270426T180000
DTSTAMP:20260421T140316
CREATED:20260122T234359Z
LAST-MODIFIED:20260122T234359Z
UID:10000645-1808762400-1808762400@rcms.mcgwebdevelopment.com
SUMMARY:Cornhole
DESCRIPTION:Head to the VFW Post 607 for Cornhole! It will be held every Monday during the winter months starting at 6 p.m. Cornhole will take place in the upstairs hall.
URL:https://rcms.mcgwebdevelopment.com/event/cornhole/2027-04-26/
LOCATION:VFW Post 607\, 1316 W 3rd St\, Rogers City\, 49779\, United States
CATEGORIES:Events
ATTACH;FMTTYPE=image/webp:https://rcms.mcgwebdevelopment.com/wp-content/media/Cornhole.webp
END:VEVENT
BEGIN:VEVENT
DTSTART;TZID=America/Detroit:20270428T131500
DTEND;TZID=America/Detroit:20270428T131500
DTSTAMP:20260421T140316
CREATED:20260123T000929Z
LAST-MODIFIED:20260123T002135Z
UID:10000710-1808918100-1808918100@rcms.mcgwebdevelopment.com
SUMMARY:Chair Zumba
DESCRIPTION:Come do Chair Zumba at the Rogers City Senior and Community Center taught by a certified Zumba Chair Instructor\, Melissa Tackett \nAttend any Wednesday at 1:15 that fits your schedule. It’s free of charge and lots of fun! All ages and abilities welcome! \nFree 30 minute class. Participants are seated for the entire workout. Fun music\, easy to follow moves\, stretch your body\, smile and make friends! Latin rhythms include Salsa\, Cumbia\, Merengue\, as well as Swing\, Disco and Jamaican! \n 
URL:https://rcms.mcgwebdevelopment.com/event/chair-zumba/2027-04-28/
LOCATION:Rogers City Area Senior & Community Center\, 131 Superior St\, Rogers City\, MI\, 49779\, United States
CATEGORIES:Events
ATTACH;FMTTYPE=image/webp:https://rcms.mcgwebdevelopment.com/wp-content/media/Chair-Zumba.webp
END:VEVENT
BEGIN:VEVENT
DTSTART;TZID=America/Detroit:20270429T164500
DTEND;TZID=America/Detroit:20270429T174500
DTSTAMP:20260421T140316
CREATED:20260123T002100Z
LAST-MODIFIED:20260123T002100Z
UID:10001814-1809017100-1809020700@rcms.mcgwebdevelopment.com
SUMMARY:ZUMBA Gold
DESCRIPTION:Need to shake off the stress? \nStep into happy at the Rogers City Senior Center. Join us for Zumba Gold is on Mondays and Thursdays at 4:45 p.m.
URL:https://rcms.mcgwebdevelopment.com/event/zumba-gold/2027-04-29/
LOCATION:Rogers City Area Senior & Community Center\, 131 Superior St\, Rogers City\, MI\, 49779\, United States
CATEGORIES:Events
ATTACH;FMTTYPE=image/webp:https://rcms.mcgwebdevelopment.com/wp-content/media/ZUMBA.webp
END:VEVENT
BEGIN:VEVENT
DTSTART;TZID=America/Detroit:20270429T174500
DTEND;TZID=America/Detroit:20270429T184500
DTSTAMP:20260421T140316
CREATED:20260122T223659Z
LAST-MODIFIED:20260122T224744Z
UID:10000191-1809020700-1809024300@rcms.mcgwebdevelopment.com
SUMMARY:ZUMBA
DESCRIPTION:Need to shake off the stress? \nStep into happy at the Rogers City Senior Center. Join us for ZUMBA on Mondays and Thursdays at 5:45 p.m.
URL:https://rcms.mcgwebdevelopment.com/event/zumba/2027-04-29/
LOCATION:Rogers City Area Senior & Community Center\, 131 Superior St\, Rogers City\, MI\, 49779\, United States
CATEGORIES:Events
ATTACH;FMTTYPE=image/webp:https://rcms.mcgwebdevelopment.com/wp-content/media/ZUMBA.webp
END:VEVENT
BEGIN:VEVENT
DTSTART;TZID=America/Detroit:20270503T164500
DTEND;TZID=America/Detroit:20270503T174500
DTSTAMP:20260421T140316
CREATED:20260123T002100Z
LAST-MODIFIED:20260123T002100Z
UID:10001815-1809362700-1809366300@rcms.mcgwebdevelopment.com
SUMMARY:ZUMBA Gold
DESCRIPTION:Need to shake off the stress? \nStep into happy at the Rogers City Senior Center. Join us for Zumba Gold is on Mondays and Thursdays at 4:45 p.m.
URL:https://rcms.mcgwebdevelopment.com/event/zumba-gold/2027-05-03/
LOCATION:Rogers City Area Senior & Community Center\, 131 Superior St\, Rogers City\, MI\, 49779\, United States
CATEGORIES:Events
ATTACH;FMTTYPE=image/webp:https://rcms.mcgwebdevelopment.com/wp-content/media/ZUMBA.webp
END:VEVENT
BEGIN:VEVENT
DTSTART;TZID=America/Detroit:20270503T174500
DTEND;TZID=America/Detroit:20270503T184500
DTSTAMP:20260421T140316
CREATED:20260122T223659Z
LAST-MODIFIED:20260122T224744Z
UID:10000192-1809366300-1809369900@rcms.mcgwebdevelopment.com
SUMMARY:ZUMBA
DESCRIPTION:Need to shake off the stress? \nStep into happy at the Rogers City Senior Center. Join us for ZUMBA on Mondays and Thursdays at 5:45 p.m.
URL:https://rcms.mcgwebdevelopment.com/event/zumba/2027-05-03/
LOCATION:Rogers City Area Senior & Community Center\, 131 Superior St\, Rogers City\, MI\, 49779\, United States
CATEGORIES:Events
ATTACH;FMTTYPE=image/webp:https://rcms.mcgwebdevelopment.com/wp-content/media/ZUMBA.webp
END:VEVENT
BEGIN:VEVENT
DTSTART;TZID=America/Detroit:20270505T131500
DTEND;TZID=America/Detroit:20270505T131500
DTSTAMP:20260421T140316
CREATED:20260123T000929Z
LAST-MODIFIED:20260123T002135Z
UID:10000711-1809522900-1809522900@rcms.mcgwebdevelopment.com
SUMMARY:Chair Zumba
DESCRIPTION:Come do Chair Zumba at the Rogers City Senior and Community Center taught by a certified Zumba Chair Instructor\, Melissa Tackett \nAttend any Wednesday at 1:15 that fits your schedule. It’s free of charge and lots of fun! All ages and abilities welcome! \nFree 30 minute class. Participants are seated for the entire workout. Fun music\, easy to follow moves\, stretch your body\, smile and make friends! Latin rhythms include Salsa\, Cumbia\, Merengue\, as well as Swing\, Disco and Jamaican! \n 
URL:https://rcms.mcgwebdevelopment.com/event/chair-zumba/2027-05-05/
LOCATION:Rogers City Area Senior & Community Center\, 131 Superior St\, Rogers City\, MI\, 49779\, United States
CATEGORIES:Events
ATTACH;FMTTYPE=image/webp:https://rcms.mcgwebdevelopment.com/wp-content/media/Chair-Zumba.webp
END:VEVENT
BEGIN:VEVENT
DTSTART;TZID=America/Detroit:20270506T164500
DTEND;TZID=America/Detroit:20270506T174500
DTSTAMP:20260421T140316
CREATED:20260123T002100Z
LAST-MODIFIED:20260123T002100Z
UID:10001816-1809621900-1809625500@rcms.mcgwebdevelopment.com
SUMMARY:ZUMBA Gold
DESCRIPTION:Need to shake off the stress? \nStep into happy at the Rogers City Senior Center. Join us for Zumba Gold is on Mondays and Thursdays at 4:45 p.m.
URL:https://rcms.mcgwebdevelopment.com/event/zumba-gold/2027-05-06/
LOCATION:Rogers City Area Senior & Community Center\, 131 Superior St\, Rogers City\, MI\, 49779\, United States
CATEGORIES:Events
ATTACH;FMTTYPE=image/webp:https://rcms.mcgwebdevelopment.com/wp-content/media/ZUMBA.webp
END:VEVENT
BEGIN:VEVENT
DTSTART;TZID=America/Detroit:20270506T174500
DTEND;TZID=America/Detroit:20270506T184500
DTSTAMP:20260421T140316
CREATED:20260122T223659Z
LAST-MODIFIED:20260122T224744Z
UID:10000193-1809625500-1809629100@rcms.mcgwebdevelopment.com
SUMMARY:ZUMBA
DESCRIPTION:Need to shake off the stress? \nStep into happy at the Rogers City Senior Center. Join us for ZUMBA on Mondays and Thursdays at 5:45 p.m.
URL:https://rcms.mcgwebdevelopment.com/event/zumba/2027-05-06/
LOCATION:Rogers City Area Senior & Community Center\, 131 Superior St\, Rogers City\, MI\, 49779\, United States
CATEGORIES:Events
ATTACH;FMTTYPE=image/webp:https://rcms.mcgwebdevelopment.com/wp-content/media/ZUMBA.webp
END:VEVENT
BEGIN:VEVENT
DTSTART;TZID=America/Detroit:20270510T164500
DTEND;TZID=America/Detroit:20270510T174500
DTSTAMP:20260421T140316
CREATED:20260123T002100Z
LAST-MODIFIED:20260123T002100Z
UID:10001817-1809967500-1809971100@rcms.mcgwebdevelopment.com
SUMMARY:ZUMBA Gold
DESCRIPTION:Need to shake off the stress? \nStep into happy at the Rogers City Senior Center. Join us for Zumba Gold is on Mondays and Thursdays at 4:45 p.m.
URL:https://rcms.mcgwebdevelopment.com/event/zumba-gold/2027-05-10/
LOCATION:Rogers City Area Senior & Community Center\, 131 Superior St\, Rogers City\, MI\, 49779\, United States
CATEGORIES:Events
ATTACH;FMTTYPE=image/webp:https://rcms.mcgwebdevelopment.com/wp-content/media/ZUMBA.webp
END:VEVENT
BEGIN:VEVENT
DTSTART;TZID=America/Detroit:20270510T174500
DTEND;TZID=America/Detroit:20270510T184500
DTSTAMP:20260421T140316
CREATED:20260122T223659Z
LAST-MODIFIED:20260122T224744Z
UID:10000194-1809971100-1809974700@rcms.mcgwebdevelopment.com
SUMMARY:ZUMBA
DESCRIPTION:Need to shake off the stress? \nStep into happy at the Rogers City Senior Center. Join us for ZUMBA on Mondays and Thursdays at 5:45 p.m.
URL:https://rcms.mcgwebdevelopment.com/event/zumba/2027-05-10/
LOCATION:Rogers City Area Senior & Community Center\, 131 Superior St\, Rogers City\, MI\, 49779\, United States
CATEGORIES:Events
ATTACH;FMTTYPE=image/webp:https://rcms.mcgwebdevelopment.com/wp-content/media/ZUMBA.webp
END:VEVENT
BEGIN:VEVENT
DTSTART;TZID=America/Detroit:20270512T073000
DTEND;TZID=America/Detroit:20270512T083000
DTSTAMP:20260421T140316
CREATED:20251125T214512Z
LAST-MODIFIED:20251125T214512Z
UID:10000018-1810107000-1810110600@rcms.mcgwebdevelopment.com
SUMMARY:Main Street/DDA Regular Meeting
DESCRIPTION:Occurs on the 2nd Wednesday of each month in the City Hall Chambers.
URL:https://rcms.mcgwebdevelopment.com/event/main-street-dda-regular-meeting/2027-05-12/
LOCATION:City of Rogers City\, 193 E Michigan Ave\, Rogers City\, MI\, 49779\, United States
CATEGORIES:Meetings
ATTACH;FMTTYPE=image/png:https://rcms.mcgwebdevelopment.com/wp-content/media/Main-Street-DDA.png
END:VEVENT
BEGIN:VEVENT
DTSTART;TZID=America/Detroit:20270512T131500
DTEND;TZID=America/Detroit:20270512T131500
DTSTAMP:20260421T140316
CREATED:20260123T000929Z
LAST-MODIFIED:20260123T002135Z
UID:10000712-1810127700-1810127700@rcms.mcgwebdevelopment.com
SUMMARY:Chair Zumba
DESCRIPTION:Come do Chair Zumba at the Rogers City Senior and Community Center taught by a certified Zumba Chair Instructor\, Melissa Tackett \nAttend any Wednesday at 1:15 that fits your schedule. It’s free of charge and lots of fun! All ages and abilities welcome! \nFree 30 minute class. Participants are seated for the entire workout. Fun music\, easy to follow moves\, stretch your body\, smile and make friends! Latin rhythms include Salsa\, Cumbia\, Merengue\, as well as Swing\, Disco and Jamaican! \n 
URL:https://rcms.mcgwebdevelopment.com/event/chair-zumba/2027-05-12/
LOCATION:Rogers City Area Senior & Community Center\, 131 Superior St\, Rogers City\, MI\, 49779\, United States
CATEGORIES:Events
ATTACH;FMTTYPE=image/webp:https://rcms.mcgwebdevelopment.com/wp-content/media/Chair-Zumba.webp
END:VEVENT
BEGIN:VEVENT
DTSTART;TZID=America/Detroit:20270513T164500
DTEND;TZID=America/Detroit:20270513T174500
DTSTAMP:20260421T140316
CREATED:20260123T002100Z
LAST-MODIFIED:20260123T002100Z
UID:10001818-1810226700-1810230300@rcms.mcgwebdevelopment.com
SUMMARY:ZUMBA Gold
DESCRIPTION:Need to shake off the stress? \nStep into happy at the Rogers City Senior Center. Join us for Zumba Gold is on Mondays and Thursdays at 4:45 p.m.
URL:https://rcms.mcgwebdevelopment.com/event/zumba-gold/2027-05-13/
LOCATION:Rogers City Area Senior & Community Center\, 131 Superior St\, Rogers City\, MI\, 49779\, United States
CATEGORIES:Events
ATTACH;FMTTYPE=image/webp:https://rcms.mcgwebdevelopment.com/wp-content/media/ZUMBA.webp
END:VEVENT
BEGIN:VEVENT
DTSTART;TZID=America/Detroit:20270513T174500
DTEND;TZID=America/Detroit:20270513T184500
DTSTAMP:20260421T140316
CREATED:20260122T223659Z
LAST-MODIFIED:20260122T224744Z
UID:10000195-1810230300-1810233900@rcms.mcgwebdevelopment.com
SUMMARY:ZUMBA
DESCRIPTION:Need to shake off the stress? \nStep into happy at the Rogers City Senior Center. Join us for ZUMBA on Mondays and Thursdays at 5:45 p.m.
URL:https://rcms.mcgwebdevelopment.com/event/zumba/2027-05-13/
LOCATION:Rogers City Area Senior & Community Center\, 131 Superior St\, Rogers City\, MI\, 49779\, United States
CATEGORIES:Events
ATTACH;FMTTYPE=image/webp:https://rcms.mcgwebdevelopment.com/wp-content/media/ZUMBA.webp
END:VEVENT
BEGIN:VEVENT
DTSTART;TZID=America/Detroit:20270517T164500
DTEND;TZID=America/Detroit:20270517T174500
DTSTAMP:20260421T140316
CREATED:20260123T002100Z
LAST-MODIFIED:20260123T002100Z
UID:10001819-1810572300-1810575900@rcms.mcgwebdevelopment.com
SUMMARY:ZUMBA Gold
DESCRIPTION:Need to shake off the stress? \nStep into happy at the Rogers City Senior Center. Join us for Zumba Gold is on Mondays and Thursdays at 4:45 p.m.
URL:https://rcms.mcgwebdevelopment.com/event/zumba-gold/2027-05-17/
LOCATION:Rogers City Area Senior & Community Center\, 131 Superior St\, Rogers City\, MI\, 49779\, United States
CATEGORIES:Events
ATTACH;FMTTYPE=image/webp:https://rcms.mcgwebdevelopment.com/wp-content/media/ZUMBA.webp
END:VEVENT
BEGIN:VEVENT
DTSTART;TZID=America/Detroit:20270517T174500
DTEND;TZID=America/Detroit:20270517T184500
DTSTAMP:20260421T140316
CREATED:20260122T223659Z
LAST-MODIFIED:20260122T224744Z
UID:10000196-1810575900-1810579500@rcms.mcgwebdevelopment.com
SUMMARY:ZUMBA
DESCRIPTION:Need to shake off the stress? \nStep into happy at the Rogers City Senior Center. Join us for ZUMBA on Mondays and Thursdays at 5:45 p.m.
URL:https://rcms.mcgwebdevelopment.com/event/zumba/2027-05-17/
LOCATION:Rogers City Area Senior & Community Center\, 131 Superior St\, Rogers City\, MI\, 49779\, United States
CATEGORIES:Events
ATTACH;FMTTYPE=image/webp:https://rcms.mcgwebdevelopment.com/wp-content/media/ZUMBA.webp
END:VEVENT
BEGIN:VEVENT
DTSTART;TZID=America/Detroit:20270519T131500
DTEND;TZID=America/Detroit:20270519T131500
DTSTAMP:20260421T140316
CREATED:20260123T000929Z
LAST-MODIFIED:20260123T002135Z
UID:10000713-1810732500-1810732500@rcms.mcgwebdevelopment.com
SUMMARY:Chair Zumba
DESCRIPTION:Come do Chair Zumba at the Rogers City Senior and Community Center taught by a certified Zumba Chair Instructor\, Melissa Tackett \nAttend any Wednesday at 1:15 that fits your schedule. It’s free of charge and lots of fun! All ages and abilities welcome! \nFree 30 minute class. Participants are seated for the entire workout. Fun music\, easy to follow moves\, stretch your body\, smile and make friends! Latin rhythms include Salsa\, Cumbia\, Merengue\, as well as Swing\, Disco and Jamaican! \n 
URL:https://rcms.mcgwebdevelopment.com/event/chair-zumba/2027-05-19/
LOCATION:Rogers City Area Senior & Community Center\, 131 Superior St\, Rogers City\, MI\, 49779\, United States
CATEGORIES:Events
ATTACH;FMTTYPE=image/webp:https://rcms.mcgwebdevelopment.com/wp-content/media/Chair-Zumba.webp
END:VEVENT
BEGIN:VEVENT
DTSTART;TZID=America/Detroit:20270520T164500
DTEND;TZID=America/Detroit:20270520T174500
DTSTAMP:20260421T140316
CREATED:20260123T002100Z
LAST-MODIFIED:20260123T002100Z
UID:10001820-1810831500-1810835100@rcms.mcgwebdevelopment.com
SUMMARY:ZUMBA Gold
DESCRIPTION:Need to shake off the stress? \nStep into happy at the Rogers City Senior Center. Join us for Zumba Gold is on Mondays and Thursdays at 4:45 p.m.
URL:https://rcms.mcgwebdevelopment.com/event/zumba-gold/2027-05-20/
LOCATION:Rogers City Area Senior & Community Center\, 131 Superior St\, Rogers City\, MI\, 49779\, United States
CATEGORIES:Events
ATTACH;FMTTYPE=image/webp:https://rcms.mcgwebdevelopment.com/wp-content/media/ZUMBA.webp
END:VEVENT
BEGIN:VEVENT
DTSTART;TZID=America/Detroit:20270520T174500
DTEND;TZID=America/Detroit:20270520T184500
DTSTAMP:20260421T140316
CREATED:20260122T223659Z
LAST-MODIFIED:20260122T224744Z
UID:10000197-1810835100-1810838700@rcms.mcgwebdevelopment.com
SUMMARY:ZUMBA
DESCRIPTION:Need to shake off the stress? \nStep into happy at the Rogers City Senior Center. Join us for ZUMBA on Mondays and Thursdays at 5:45 p.m.
URL:https://rcms.mcgwebdevelopment.com/event/zumba/2027-05-20/
LOCATION:Rogers City Area Senior & Community Center\, 131 Superior St\, Rogers City\, MI\, 49779\, United States
CATEGORIES:Events
ATTACH;FMTTYPE=image/webp:https://rcms.mcgwebdevelopment.com/wp-content/media/ZUMBA.webp
END:VEVENT
BEGIN:VEVENT
DTSTART;TZID=America/Detroit:20270524T164500
DTEND;TZID=America/Detroit:20270524T174500
DTSTAMP:20260421T140316
CREATED:20260123T002100Z
LAST-MODIFIED:20260123T002100Z
UID:10001821-1811177100-1811180700@rcms.mcgwebdevelopment.com
SUMMARY:ZUMBA Gold
DESCRIPTION:Need to shake off the stress? \nStep into happy at the Rogers City Senior Center. Join us for Zumba Gold is on Mondays and Thursdays at 4:45 p.m.
URL:https://rcms.mcgwebdevelopment.com/event/zumba-gold/2027-05-24/
LOCATION:Rogers City Area Senior & Community Center\, 131 Superior St\, Rogers City\, MI\, 49779\, United States
CATEGORIES:Events
ATTACH;FMTTYPE=image/webp:https://rcms.mcgwebdevelopment.com/wp-content/media/ZUMBA.webp
END:VEVENT
BEGIN:VEVENT
DTSTART;TZID=America/Detroit:20270524T174500
DTEND;TZID=America/Detroit:20270524T184500
DTSTAMP:20260421T140316
CREATED:20260122T223659Z
LAST-MODIFIED:20260122T224744Z
UID:10000198-1811180700-1811184300@rcms.mcgwebdevelopment.com
SUMMARY:ZUMBA
DESCRIPTION:Need to shake off the stress? \nStep into happy at the Rogers City Senior Center. Join us for ZUMBA on Mondays and Thursdays at 5:45 p.m.
URL:https://rcms.mcgwebdevelopment.com/event/zumba/2027-05-24/
LOCATION:Rogers City Area Senior & Community Center\, 131 Superior St\, Rogers City\, MI\, 49779\, United States
CATEGORIES:Events
ATTACH;FMTTYPE=image/webp:https://rcms.mcgwebdevelopment.com/wp-content/media/ZUMBA.webp
END:VEVENT
BEGIN:VEVENT
DTSTART;TZID=America/Detroit:20270526T131500
DTEND;TZID=America/Detroit:20270526T131500
DTSTAMP:20260421T140316
CREATED:20260123T000929Z
LAST-MODIFIED:20260123T002135Z
UID:10000714-1811337300-1811337300@rcms.mcgwebdevelopment.com
SUMMARY:Chair Zumba
DESCRIPTION:Come do Chair Zumba at the Rogers City Senior and Community Center taught by a certified Zumba Chair Instructor\, Melissa Tackett \nAttend any Wednesday at 1:15 that fits your schedule. It’s free of charge and lots of fun! All ages and abilities welcome! \nFree 30 minute class. Participants are seated for the entire workout. Fun music\, easy to follow moves\, stretch your body\, smile and make friends! Latin rhythms include Salsa\, Cumbia\, Merengue\, as well as Swing\, Disco and Jamaican! \n 
URL:https://rcms.mcgwebdevelopment.com/event/chair-zumba/2027-05-26/
LOCATION:Rogers City Area Senior & Community Center\, 131 Superior St\, Rogers City\, MI\, 49779\, United States
CATEGORIES:Events
ATTACH;FMTTYPE=image/webp:https://rcms.mcgwebdevelopment.com/wp-content/media/Chair-Zumba.webp
END:VEVENT
END:VCALENDAR