BEGIN:VCALENDAR
VERSION:2.0
PRODID:-//Downtown Rogers City - ECPv6.15.20//NONSGML v1.0//EN
CALSCALE:GREGORIAN
METHOD:PUBLISH
X-ORIGINAL-URL:https://rcms.mcgwebdevelopment.com
X-WR-CALDESC:Events for Downtown Rogers City
REFRESH-INTERVAL;VALUE=DURATION:PT1H
X-Robots-Tag:noindex
X-PUBLISHED-TTL:PT1H
BEGIN:VTIMEZONE
TZID:America/Detroit
BEGIN:DAYLIGHT
TZOFFSETFROM:-0500
TZOFFSETTO:-0400
TZNAME:EDT
DTSTART:20260308T070000
END:DAYLIGHT
BEGIN:STANDARD
TZOFFSETFROM:-0400
TZOFFSETTO:-0500
TZNAME:EST
DTSTART:20261101T060000
END:STANDARD
BEGIN:DAYLIGHT
TZOFFSETFROM:-0500
TZOFFSETTO:-0400
TZNAME:EDT
DTSTART:20270314T070000
END:DAYLIGHT
BEGIN:STANDARD
TZOFFSETFROM:-0400
TZOFFSETTO:-0500
TZNAME:EST
DTSTART:20271107T060000
END:STANDARD
BEGIN:DAYLIGHT
TZOFFSETFROM:-0500
TZOFFSETTO:-0400
TZNAME:EDT
DTSTART:20280312T070000
END:DAYLIGHT
BEGIN:STANDARD
TZOFFSETFROM:-0400
TZOFFSETTO:-0500
TZNAME:EST
DTSTART:20281105T060000
END:STANDARD
END:VTIMEZONE
BEGIN:VEVENT
DTSTART;TZID=America/Detroit:20270621T164500
DTEND;TZID=America/Detroit:20270621T174500
DTSTAMP:20260422T180157
CREATED:20260123T002100Z
LAST-MODIFIED:20260123T002100Z
UID:10001829-1813596300-1813599900@rcms.mcgwebdevelopment.com
SUMMARY:ZUMBA Gold
DESCRIPTION:Need to shake off the stress? \nStep into happy at the Rogers City Senior Center. Join us for Zumba Gold is on Mondays and Thursdays at 4:45 p.m.
URL:https://rcms.mcgwebdevelopment.com/event/zumba-gold/2027-06-21/
LOCATION:Rogers City Area Senior & Community Center\, 131 Superior St\, Rogers City\, MI\, 49779\, United States
CATEGORIES:Events
ATTACH;FMTTYPE=image/webp:https://rcms.mcgwebdevelopment.com/wp-content/media/ZUMBA.webp
END:VEVENT
BEGIN:VEVENT
DTSTART;TZID=America/Detroit:20270621T174500
DTEND;TZID=America/Detroit:20270621T184500
DTSTAMP:20260422T180157
CREATED:20260122T223659Z
LAST-MODIFIED:20260122T224744Z
UID:10000206-1813599900-1813603500@rcms.mcgwebdevelopment.com
SUMMARY:ZUMBA
DESCRIPTION:Need to shake off the stress? \nStep into happy at the Rogers City Senior Center. Join us for ZUMBA on Mondays and Thursdays at 5:45 p.m.
URL:https://rcms.mcgwebdevelopment.com/event/zumba/2027-06-21/
LOCATION:Rogers City Area Senior & Community Center\, 131 Superior St\, Rogers City\, MI\, 49779\, United States
CATEGORIES:Events
ATTACH;FMTTYPE=image/webp:https://rcms.mcgwebdevelopment.com/wp-content/media/ZUMBA.webp
END:VEVENT
BEGIN:VEVENT
DTSTART;TZID=America/Detroit:20270623T131500
DTEND;TZID=America/Detroit:20270623T131500
DTSTAMP:20260422T180157
CREATED:20260123T000929Z
LAST-MODIFIED:20260123T002135Z
UID:10000718-1813756500-1813756500@rcms.mcgwebdevelopment.com
SUMMARY:Chair Zumba
DESCRIPTION:Come do Chair Zumba at the Rogers City Senior and Community Center taught by a certified Zumba Chair Instructor\, Melissa Tackett \nAttend any Wednesday at 1:15 that fits your schedule. It’s free of charge and lots of fun! All ages and abilities welcome! \nFree 30 minute class. Participants are seated for the entire workout. Fun music\, easy to follow moves\, stretch your body\, smile and make friends! Latin rhythms include Salsa\, Cumbia\, Merengue\, as well as Swing\, Disco and Jamaican! \n 
URL:https://rcms.mcgwebdevelopment.com/event/chair-zumba/2027-06-23/
LOCATION:Rogers City Area Senior & Community Center\, 131 Superior St\, Rogers City\, MI\, 49779\, United States
CATEGORIES:Events
ATTACH;FMTTYPE=image/webp:https://rcms.mcgwebdevelopment.com/wp-content/media/Chair-Zumba.webp
END:VEVENT
BEGIN:VEVENT
DTSTART;TZID=America/Detroit:20270624T164500
DTEND;TZID=America/Detroit:20270624T174500
DTSTAMP:20260422T180157
CREATED:20260123T002100Z
LAST-MODIFIED:20260123T002100Z
UID:10001830-1813855500-1813859100@rcms.mcgwebdevelopment.com
SUMMARY:ZUMBA Gold
DESCRIPTION:Need to shake off the stress? \nStep into happy at the Rogers City Senior Center. Join us for Zumba Gold is on Mondays and Thursdays at 4:45 p.m.
URL:https://rcms.mcgwebdevelopment.com/event/zumba-gold/2027-06-24/
LOCATION:Rogers City Area Senior & Community Center\, 131 Superior St\, Rogers City\, MI\, 49779\, United States
CATEGORIES:Events
ATTACH;FMTTYPE=image/webp:https://rcms.mcgwebdevelopment.com/wp-content/media/ZUMBA.webp
END:VEVENT
BEGIN:VEVENT
DTSTART;TZID=America/Detroit:20270624T174500
DTEND;TZID=America/Detroit:20270624T184500
DTSTAMP:20260422T180157
CREATED:20260122T223659Z
LAST-MODIFIED:20260122T224744Z
UID:10000207-1813859100-1813862700@rcms.mcgwebdevelopment.com
SUMMARY:ZUMBA
DESCRIPTION:Need to shake off the stress? \nStep into happy at the Rogers City Senior Center. Join us for ZUMBA on Mondays and Thursdays at 5:45 p.m.
URL:https://rcms.mcgwebdevelopment.com/event/zumba/2027-06-24/
LOCATION:Rogers City Area Senior & Community Center\, 131 Superior St\, Rogers City\, MI\, 49779\, United States
CATEGORIES:Events
ATTACH;FMTTYPE=image/webp:https://rcms.mcgwebdevelopment.com/wp-content/media/ZUMBA.webp
END:VEVENT
BEGIN:VEVENT
DTSTART;TZID=America/Detroit:20270628T164500
DTEND;TZID=America/Detroit:20270628T174500
DTSTAMP:20260422T180157
CREATED:20260123T002100Z
LAST-MODIFIED:20260123T002100Z
UID:10001831-1814201100-1814204700@rcms.mcgwebdevelopment.com
SUMMARY:ZUMBA Gold
DESCRIPTION:Need to shake off the stress? \nStep into happy at the Rogers City Senior Center. Join us for Zumba Gold is on Mondays and Thursdays at 4:45 p.m.
URL:https://rcms.mcgwebdevelopment.com/event/zumba-gold/2027-06-28/
LOCATION:Rogers City Area Senior & Community Center\, 131 Superior St\, Rogers City\, MI\, 49779\, United States
CATEGORIES:Events
ATTACH;FMTTYPE=image/webp:https://rcms.mcgwebdevelopment.com/wp-content/media/ZUMBA.webp
END:VEVENT
BEGIN:VEVENT
DTSTART;TZID=America/Detroit:20270628T174500
DTEND;TZID=America/Detroit:20270628T184500
DTSTAMP:20260422T180157
CREATED:20260122T223659Z
LAST-MODIFIED:20260122T224744Z
UID:10000208-1814204700-1814208300@rcms.mcgwebdevelopment.com
SUMMARY:ZUMBA
DESCRIPTION:Need to shake off the stress? \nStep into happy at the Rogers City Senior Center. Join us for ZUMBA on Mondays and Thursdays at 5:45 p.m.
URL:https://rcms.mcgwebdevelopment.com/event/zumba/2027-06-28/
LOCATION:Rogers City Area Senior & Community Center\, 131 Superior St\, Rogers City\, MI\, 49779\, United States
CATEGORIES:Events
ATTACH;FMTTYPE=image/webp:https://rcms.mcgwebdevelopment.com/wp-content/media/ZUMBA.webp
END:VEVENT
BEGIN:VEVENT
DTSTART;TZID=America/Detroit:20270630T131500
DTEND;TZID=America/Detroit:20270630T131500
DTSTAMP:20260422T180157
CREATED:20260123T000929Z
LAST-MODIFIED:20260123T002135Z
UID:10000719-1814361300-1814361300@rcms.mcgwebdevelopment.com
SUMMARY:Chair Zumba
DESCRIPTION:Come do Chair Zumba at the Rogers City Senior and Community Center taught by a certified Zumba Chair Instructor\, Melissa Tackett \nAttend any Wednesday at 1:15 that fits your schedule. It’s free of charge and lots of fun! All ages and abilities welcome! \nFree 30 minute class. Participants are seated for the entire workout. Fun music\, easy to follow moves\, stretch your body\, smile and make friends! Latin rhythms include Salsa\, Cumbia\, Merengue\, as well as Swing\, Disco and Jamaican! \n 
URL:https://rcms.mcgwebdevelopment.com/event/chair-zumba/2027-06-30/
LOCATION:Rogers City Area Senior & Community Center\, 131 Superior St\, Rogers City\, MI\, 49779\, United States
CATEGORIES:Events
ATTACH;FMTTYPE=image/webp:https://rcms.mcgwebdevelopment.com/wp-content/media/Chair-Zumba.webp
END:VEVENT
BEGIN:VEVENT
DTSTART;TZID=America/Detroit:20270701T164500
DTEND;TZID=America/Detroit:20270701T174500
DTSTAMP:20260422T180157
CREATED:20260123T002100Z
LAST-MODIFIED:20260123T002100Z
UID:10001832-1814460300-1814463900@rcms.mcgwebdevelopment.com
SUMMARY:ZUMBA Gold
DESCRIPTION:Need to shake off the stress? \nStep into happy at the Rogers City Senior Center. Join us for Zumba Gold is on Mondays and Thursdays at 4:45 p.m.
URL:https://rcms.mcgwebdevelopment.com/event/zumba-gold/2027-07-01/
LOCATION:Rogers City Area Senior & Community Center\, 131 Superior St\, Rogers City\, MI\, 49779\, United States
CATEGORIES:Events
ATTACH;FMTTYPE=image/webp:https://rcms.mcgwebdevelopment.com/wp-content/media/ZUMBA.webp
END:VEVENT
BEGIN:VEVENT
DTSTART;TZID=America/Detroit:20270701T174500
DTEND;TZID=America/Detroit:20270701T184500
DTSTAMP:20260422T180157
CREATED:20260122T223659Z
LAST-MODIFIED:20260122T224744Z
UID:10000209-1814463900-1814467500@rcms.mcgwebdevelopment.com
SUMMARY:ZUMBA
DESCRIPTION:Need to shake off the stress? \nStep into happy at the Rogers City Senior Center. Join us for ZUMBA on Mondays and Thursdays at 5:45 p.m.
URL:https://rcms.mcgwebdevelopment.com/event/zumba/2027-07-01/
LOCATION:Rogers City Area Senior & Community Center\, 131 Superior St\, Rogers City\, MI\, 49779\, United States
CATEGORIES:Events
ATTACH;FMTTYPE=image/webp:https://rcms.mcgwebdevelopment.com/wp-content/media/ZUMBA.webp
END:VEVENT
BEGIN:VEVENT
DTSTART;TZID=America/Detroit:20270705T164500
DTEND;TZID=America/Detroit:20270705T174500
DTSTAMP:20260422T180157
CREATED:20260123T002100Z
LAST-MODIFIED:20260123T002100Z
UID:10001833-1814805900-1814809500@rcms.mcgwebdevelopment.com
SUMMARY:ZUMBA Gold
DESCRIPTION:Need to shake off the stress? \nStep into happy at the Rogers City Senior Center. Join us for Zumba Gold is on Mondays and Thursdays at 4:45 p.m.
URL:https://rcms.mcgwebdevelopment.com/event/zumba-gold/2027-07-05/
LOCATION:Rogers City Area Senior & Community Center\, 131 Superior St\, Rogers City\, MI\, 49779\, United States
CATEGORIES:Events
ATTACH;FMTTYPE=image/webp:https://rcms.mcgwebdevelopment.com/wp-content/media/ZUMBA.webp
END:VEVENT
BEGIN:VEVENT
DTSTART;TZID=America/Detroit:20270705T174500
DTEND;TZID=America/Detroit:20270705T184500
DTSTAMP:20260422T180157
CREATED:20260122T223659Z
LAST-MODIFIED:20260122T224744Z
UID:10000210-1814809500-1814813100@rcms.mcgwebdevelopment.com
SUMMARY:ZUMBA
DESCRIPTION:Need to shake off the stress? \nStep into happy at the Rogers City Senior Center. Join us for ZUMBA on Mondays and Thursdays at 5:45 p.m.
URL:https://rcms.mcgwebdevelopment.com/event/zumba/2027-07-05/
LOCATION:Rogers City Area Senior & Community Center\, 131 Superior St\, Rogers City\, MI\, 49779\, United States
CATEGORIES:Events
ATTACH;FMTTYPE=image/webp:https://rcms.mcgwebdevelopment.com/wp-content/media/ZUMBA.webp
END:VEVENT
BEGIN:VEVENT
DTSTART;TZID=America/Detroit:20270707T131500
DTEND;TZID=America/Detroit:20270707T131500
DTSTAMP:20260422T180157
CREATED:20260123T000929Z
LAST-MODIFIED:20260123T002135Z
UID:10000720-1814966100-1814966100@rcms.mcgwebdevelopment.com
SUMMARY:Chair Zumba
DESCRIPTION:Come do Chair Zumba at the Rogers City Senior and Community Center taught by a certified Zumba Chair Instructor\, Melissa Tackett \nAttend any Wednesday at 1:15 that fits your schedule. It’s free of charge and lots of fun! All ages and abilities welcome! \nFree 30 minute class. Participants are seated for the entire workout. Fun music\, easy to follow moves\, stretch your body\, smile and make friends! Latin rhythms include Salsa\, Cumbia\, Merengue\, as well as Swing\, Disco and Jamaican! \n 
URL:https://rcms.mcgwebdevelopment.com/event/chair-zumba/2027-07-07/
LOCATION:Rogers City Area Senior & Community Center\, 131 Superior St\, Rogers City\, MI\, 49779\, United States
CATEGORIES:Events
ATTACH;FMTTYPE=image/webp:https://rcms.mcgwebdevelopment.com/wp-content/media/Chair-Zumba.webp
END:VEVENT
BEGIN:VEVENT
DTSTART;TZID=America/Detroit:20270708T164500
DTEND;TZID=America/Detroit:20270708T174500
DTSTAMP:20260422T180157
CREATED:20260123T002100Z
LAST-MODIFIED:20260123T002100Z
UID:10001834-1815065100-1815068700@rcms.mcgwebdevelopment.com
SUMMARY:ZUMBA Gold
DESCRIPTION:Need to shake off the stress? \nStep into happy at the Rogers City Senior Center. Join us for Zumba Gold is on Mondays and Thursdays at 4:45 p.m.
URL:https://rcms.mcgwebdevelopment.com/event/zumba-gold/2027-07-08/
LOCATION:Rogers City Area Senior & Community Center\, 131 Superior St\, Rogers City\, MI\, 49779\, United States
CATEGORIES:Events
ATTACH;FMTTYPE=image/webp:https://rcms.mcgwebdevelopment.com/wp-content/media/ZUMBA.webp
END:VEVENT
BEGIN:VEVENT
DTSTART;TZID=America/Detroit:20270708T174500
DTEND;TZID=America/Detroit:20270708T184500
DTSTAMP:20260422T180157
CREATED:20260122T223659Z
LAST-MODIFIED:20260122T224744Z
UID:10000211-1815068700-1815072300@rcms.mcgwebdevelopment.com
SUMMARY:ZUMBA
DESCRIPTION:Need to shake off the stress? \nStep into happy at the Rogers City Senior Center. Join us for ZUMBA on Mondays and Thursdays at 5:45 p.m.
URL:https://rcms.mcgwebdevelopment.com/event/zumba/2027-07-08/
LOCATION:Rogers City Area Senior & Community Center\, 131 Superior St\, Rogers City\, MI\, 49779\, United States
CATEGORIES:Events
ATTACH;FMTTYPE=image/webp:https://rcms.mcgwebdevelopment.com/wp-content/media/ZUMBA.webp
END:VEVENT
BEGIN:VEVENT
DTSTART;TZID=America/Detroit:20270712T164500
DTEND;TZID=America/Detroit:20270712T174500
DTSTAMP:20260422T180157
CREATED:20260123T002100Z
LAST-MODIFIED:20260123T002100Z
UID:10001835-1815410700-1815414300@rcms.mcgwebdevelopment.com
SUMMARY:ZUMBA Gold
DESCRIPTION:Need to shake off the stress? \nStep into happy at the Rogers City Senior Center. Join us for Zumba Gold is on Mondays and Thursdays at 4:45 p.m.
URL:https://rcms.mcgwebdevelopment.com/event/zumba-gold/2027-07-12/
LOCATION:Rogers City Area Senior & Community Center\, 131 Superior St\, Rogers City\, MI\, 49779\, United States
CATEGORIES:Events
ATTACH;FMTTYPE=image/webp:https://rcms.mcgwebdevelopment.com/wp-content/media/ZUMBA.webp
END:VEVENT
BEGIN:VEVENT
DTSTART;TZID=America/Detroit:20270712T174500
DTEND;TZID=America/Detroit:20270712T184500
DTSTAMP:20260422T180157
CREATED:20260122T223659Z
LAST-MODIFIED:20260122T224744Z
UID:10000212-1815414300-1815417900@rcms.mcgwebdevelopment.com
SUMMARY:ZUMBA
DESCRIPTION:Need to shake off the stress? \nStep into happy at the Rogers City Senior Center. Join us for ZUMBA on Mondays and Thursdays at 5:45 p.m.
URL:https://rcms.mcgwebdevelopment.com/event/zumba/2027-07-12/
LOCATION:Rogers City Area Senior & Community Center\, 131 Superior St\, Rogers City\, MI\, 49779\, United States
CATEGORIES:Events
ATTACH;FMTTYPE=image/webp:https://rcms.mcgwebdevelopment.com/wp-content/media/ZUMBA.webp
END:VEVENT
BEGIN:VEVENT
DTSTART;TZID=America/Detroit:20270714T073000
DTEND;TZID=America/Detroit:20270714T083000
DTSTAMP:20260422T180157
CREATED:20251125T214512Z
LAST-MODIFIED:20251125T214512Z
UID:10000020-1815550200-1815553800@rcms.mcgwebdevelopment.com
SUMMARY:Main Street/DDA Regular Meeting
DESCRIPTION:Occurs on the 2nd Wednesday of each month in the City Hall Chambers.
URL:https://rcms.mcgwebdevelopment.com/event/main-street-dda-regular-meeting/2027-07-14/
LOCATION:City of Rogers City\, 193 E Michigan Ave\, Rogers City\, MI\, 49779\, United States
CATEGORIES:Meetings
ATTACH;FMTTYPE=image/png:https://rcms.mcgwebdevelopment.com/wp-content/media/Main-Street-DDA.png
END:VEVENT
BEGIN:VEVENT
DTSTART;TZID=America/Detroit:20270714T131500
DTEND;TZID=America/Detroit:20270714T131500
DTSTAMP:20260422T180157
CREATED:20260123T000929Z
LAST-MODIFIED:20260123T002135Z
UID:10000721-1815570900-1815570900@rcms.mcgwebdevelopment.com
SUMMARY:Chair Zumba
DESCRIPTION:Come do Chair Zumba at the Rogers City Senior and Community Center taught by a certified Zumba Chair Instructor\, Melissa Tackett \nAttend any Wednesday at 1:15 that fits your schedule. It’s free of charge and lots of fun! All ages and abilities welcome! \nFree 30 minute class. Participants are seated for the entire workout. Fun music\, easy to follow moves\, stretch your body\, smile and make friends! Latin rhythms include Salsa\, Cumbia\, Merengue\, as well as Swing\, Disco and Jamaican! \n 
URL:https://rcms.mcgwebdevelopment.com/event/chair-zumba/2027-07-14/
LOCATION:Rogers City Area Senior & Community Center\, 131 Superior St\, Rogers City\, MI\, 49779\, United States
CATEGORIES:Events
ATTACH;FMTTYPE=image/webp:https://rcms.mcgwebdevelopment.com/wp-content/media/Chair-Zumba.webp
END:VEVENT
BEGIN:VEVENT
DTSTART;TZID=America/Detroit:20270715T164500
DTEND;TZID=America/Detroit:20270715T174500
DTSTAMP:20260422T180157
CREATED:20260123T002100Z
LAST-MODIFIED:20260123T002100Z
UID:10001836-1815669900-1815673500@rcms.mcgwebdevelopment.com
SUMMARY:ZUMBA Gold
DESCRIPTION:Need to shake off the stress? \nStep into happy at the Rogers City Senior Center. Join us for Zumba Gold is on Mondays and Thursdays at 4:45 p.m.
URL:https://rcms.mcgwebdevelopment.com/event/zumba-gold/2027-07-15/
LOCATION:Rogers City Area Senior & Community Center\, 131 Superior St\, Rogers City\, MI\, 49779\, United States
CATEGORIES:Events
ATTACH;FMTTYPE=image/webp:https://rcms.mcgwebdevelopment.com/wp-content/media/ZUMBA.webp
END:VEVENT
BEGIN:VEVENT
DTSTART;TZID=America/Detroit:20270715T174500
DTEND;TZID=America/Detroit:20270715T184500
DTSTAMP:20260422T180157
CREATED:20260122T223659Z
LAST-MODIFIED:20260122T224744Z
UID:10000213-1815673500-1815677100@rcms.mcgwebdevelopment.com
SUMMARY:ZUMBA
DESCRIPTION:Need to shake off the stress? \nStep into happy at the Rogers City Senior Center. Join us for ZUMBA on Mondays and Thursdays at 5:45 p.m.
URL:https://rcms.mcgwebdevelopment.com/event/zumba/2027-07-15/
LOCATION:Rogers City Area Senior & Community Center\, 131 Superior St\, Rogers City\, MI\, 49779\, United States
CATEGORIES:Events
ATTACH;FMTTYPE=image/webp:https://rcms.mcgwebdevelopment.com/wp-content/media/ZUMBA.webp
END:VEVENT
BEGIN:VEVENT
DTSTART;TZID=America/Detroit:20270719T164500
DTEND;TZID=America/Detroit:20270719T174500
DTSTAMP:20260422T180157
CREATED:20260123T002100Z
LAST-MODIFIED:20260123T002100Z
UID:10001837-1816015500-1816019100@rcms.mcgwebdevelopment.com
SUMMARY:ZUMBA Gold
DESCRIPTION:Need to shake off the stress? \nStep into happy at the Rogers City Senior Center. Join us for Zumba Gold is on Mondays and Thursdays at 4:45 p.m.
URL:https://rcms.mcgwebdevelopment.com/event/zumba-gold/2027-07-19/
LOCATION:Rogers City Area Senior & Community Center\, 131 Superior St\, Rogers City\, MI\, 49779\, United States
CATEGORIES:Events
ATTACH;FMTTYPE=image/webp:https://rcms.mcgwebdevelopment.com/wp-content/media/ZUMBA.webp
END:VEVENT
BEGIN:VEVENT
DTSTART;TZID=America/Detroit:20270719T174500
DTEND;TZID=America/Detroit:20270719T184500
DTSTAMP:20260422T180157
CREATED:20260122T223659Z
LAST-MODIFIED:20260122T224744Z
UID:10000214-1816019100-1816022700@rcms.mcgwebdevelopment.com
SUMMARY:ZUMBA
DESCRIPTION:Need to shake off the stress? \nStep into happy at the Rogers City Senior Center. Join us for ZUMBA on Mondays and Thursdays at 5:45 p.m.
URL:https://rcms.mcgwebdevelopment.com/event/zumba/2027-07-19/
LOCATION:Rogers City Area Senior & Community Center\, 131 Superior St\, Rogers City\, MI\, 49779\, United States
CATEGORIES:Events
ATTACH;FMTTYPE=image/webp:https://rcms.mcgwebdevelopment.com/wp-content/media/ZUMBA.webp
END:VEVENT
BEGIN:VEVENT
DTSTART;TZID=America/Detroit:20270721T131500
DTEND;TZID=America/Detroit:20270721T131500
DTSTAMP:20260422T180157
CREATED:20260123T000929Z
LAST-MODIFIED:20260123T002135Z
UID:10000722-1816175700-1816175700@rcms.mcgwebdevelopment.com
SUMMARY:Chair Zumba
DESCRIPTION:Come do Chair Zumba at the Rogers City Senior and Community Center taught by a certified Zumba Chair Instructor\, Melissa Tackett \nAttend any Wednesday at 1:15 that fits your schedule. It’s free of charge and lots of fun! All ages and abilities welcome! \nFree 30 minute class. Participants are seated for the entire workout. Fun music\, easy to follow moves\, stretch your body\, smile and make friends! Latin rhythms include Salsa\, Cumbia\, Merengue\, as well as Swing\, Disco and Jamaican! \n 
URL:https://rcms.mcgwebdevelopment.com/event/chair-zumba/2027-07-21/
LOCATION:Rogers City Area Senior & Community Center\, 131 Superior St\, Rogers City\, MI\, 49779\, United States
CATEGORIES:Events
ATTACH;FMTTYPE=image/webp:https://rcms.mcgwebdevelopment.com/wp-content/media/Chair-Zumba.webp
END:VEVENT
BEGIN:VEVENT
DTSTART;TZID=America/Detroit:20270722T164500
DTEND;TZID=America/Detroit:20270722T174500
DTSTAMP:20260422T180157
CREATED:20260123T002100Z
LAST-MODIFIED:20260123T002100Z
UID:10001838-1816274700-1816278300@rcms.mcgwebdevelopment.com
SUMMARY:ZUMBA Gold
DESCRIPTION:Need to shake off the stress? \nStep into happy at the Rogers City Senior Center. Join us for Zumba Gold is on Mondays and Thursdays at 4:45 p.m.
URL:https://rcms.mcgwebdevelopment.com/event/zumba-gold/2027-07-22/
LOCATION:Rogers City Area Senior & Community Center\, 131 Superior St\, Rogers City\, MI\, 49779\, United States
CATEGORIES:Events
ATTACH;FMTTYPE=image/webp:https://rcms.mcgwebdevelopment.com/wp-content/media/ZUMBA.webp
END:VEVENT
BEGIN:VEVENT
DTSTART;TZID=America/Detroit:20270722T174500
DTEND;TZID=America/Detroit:20270722T184500
DTSTAMP:20260422T180157
CREATED:20260122T223659Z
LAST-MODIFIED:20260122T224744Z
UID:10000215-1816278300-1816281900@rcms.mcgwebdevelopment.com
SUMMARY:ZUMBA
DESCRIPTION:Need to shake off the stress? \nStep into happy at the Rogers City Senior Center. Join us for ZUMBA on Mondays and Thursdays at 5:45 p.m.
URL:https://rcms.mcgwebdevelopment.com/event/zumba/2027-07-22/
LOCATION:Rogers City Area Senior & Community Center\, 131 Superior St\, Rogers City\, MI\, 49779\, United States
CATEGORIES:Events
ATTACH;FMTTYPE=image/webp:https://rcms.mcgwebdevelopment.com/wp-content/media/ZUMBA.webp
END:VEVENT
BEGIN:VEVENT
DTSTART;TZID=America/Detroit:20270726T164500
DTEND;TZID=America/Detroit:20270726T174500
DTSTAMP:20260422T180157
CREATED:20260123T002100Z
LAST-MODIFIED:20260123T002100Z
UID:10001839-1816620300-1816623900@rcms.mcgwebdevelopment.com
SUMMARY:ZUMBA Gold
DESCRIPTION:Need to shake off the stress? \nStep into happy at the Rogers City Senior Center. Join us for Zumba Gold is on Mondays and Thursdays at 4:45 p.m.
URL:https://rcms.mcgwebdevelopment.com/event/zumba-gold/2027-07-26/
LOCATION:Rogers City Area Senior & Community Center\, 131 Superior St\, Rogers City\, MI\, 49779\, United States
CATEGORIES:Events
ATTACH;FMTTYPE=image/webp:https://rcms.mcgwebdevelopment.com/wp-content/media/ZUMBA.webp
END:VEVENT
BEGIN:VEVENT
DTSTART;TZID=America/Detroit:20270726T174500
DTEND;TZID=America/Detroit:20270726T184500
DTSTAMP:20260422T180157
CREATED:20260122T223659Z
LAST-MODIFIED:20260122T224744Z
UID:10000216-1816623900-1816627500@rcms.mcgwebdevelopment.com
SUMMARY:ZUMBA
DESCRIPTION:Need to shake off the stress? \nStep into happy at the Rogers City Senior Center. Join us for ZUMBA on Mondays and Thursdays at 5:45 p.m.
URL:https://rcms.mcgwebdevelopment.com/event/zumba/2027-07-26/
LOCATION:Rogers City Area Senior & Community Center\, 131 Superior St\, Rogers City\, MI\, 49779\, United States
CATEGORIES:Events
ATTACH;FMTTYPE=image/webp:https://rcms.mcgwebdevelopment.com/wp-content/media/ZUMBA.webp
END:VEVENT
BEGIN:VEVENT
DTSTART;TZID=America/Detroit:20270728T131500
DTEND;TZID=America/Detroit:20270728T131500
DTSTAMP:20260422T180157
CREATED:20260123T000929Z
LAST-MODIFIED:20260123T002135Z
UID:10000723-1816780500-1816780500@rcms.mcgwebdevelopment.com
SUMMARY:Chair Zumba
DESCRIPTION:Come do Chair Zumba at the Rogers City Senior and Community Center taught by a certified Zumba Chair Instructor\, Melissa Tackett \nAttend any Wednesday at 1:15 that fits your schedule. It’s free of charge and lots of fun! All ages and abilities welcome! \nFree 30 minute class. Participants are seated for the entire workout. Fun music\, easy to follow moves\, stretch your body\, smile and make friends! Latin rhythms include Salsa\, Cumbia\, Merengue\, as well as Swing\, Disco and Jamaican! \n 
URL:https://rcms.mcgwebdevelopment.com/event/chair-zumba/2027-07-28/
LOCATION:Rogers City Area Senior & Community Center\, 131 Superior St\, Rogers City\, MI\, 49779\, United States
CATEGORIES:Events
ATTACH;FMTTYPE=image/webp:https://rcms.mcgwebdevelopment.com/wp-content/media/Chair-Zumba.webp
END:VEVENT
BEGIN:VEVENT
DTSTART;TZID=America/Detroit:20270729T164500
DTEND;TZID=America/Detroit:20270729T174500
DTSTAMP:20260422T180157
CREATED:20260123T002100Z
LAST-MODIFIED:20260123T002100Z
UID:10001840-1816879500-1816883100@rcms.mcgwebdevelopment.com
SUMMARY:ZUMBA Gold
DESCRIPTION:Need to shake off the stress? \nStep into happy at the Rogers City Senior Center. Join us for Zumba Gold is on Mondays and Thursdays at 4:45 p.m.
URL:https://rcms.mcgwebdevelopment.com/event/zumba-gold/2027-07-29/
LOCATION:Rogers City Area Senior & Community Center\, 131 Superior St\, Rogers City\, MI\, 49779\, United States
CATEGORIES:Events
ATTACH;FMTTYPE=image/webp:https://rcms.mcgwebdevelopment.com/wp-content/media/ZUMBA.webp
END:VEVENT
END:VCALENDAR