BEGIN:VCALENDAR
VERSION:2.0
PRODID:-//Downtown Rogers City - ECPv6.15.20//NONSGML v1.0//EN
CALSCALE:GREGORIAN
METHOD:PUBLISH
X-WR-CALNAME:Downtown Rogers City
X-ORIGINAL-URL:https://rcms.mcgwebdevelopment.com
X-WR-CALDESC:Events for Downtown Rogers City
REFRESH-INTERVAL;VALUE=DURATION:PT1H
X-Robots-Tag:noindex
X-PUBLISHED-TTL:PT1H
BEGIN:VTIMEZONE
TZID:America/Detroit
BEGIN:DAYLIGHT
TZOFFSETFROM:-0500
TZOFFSETTO:-0400
TZNAME:EDT
DTSTART:20250309T070000
END:DAYLIGHT
BEGIN:STANDARD
TZOFFSETFROM:-0400
TZOFFSETTO:-0500
TZNAME:EST
DTSTART:20251102T060000
END:STANDARD
BEGIN:DAYLIGHT
TZOFFSETFROM:-0500
TZOFFSETTO:-0400
TZNAME:EDT
DTSTART:20260308T070000
END:DAYLIGHT
BEGIN:STANDARD
TZOFFSETFROM:-0400
TZOFFSETTO:-0500
TZNAME:EST
DTSTART:20261101T060000
END:STANDARD
BEGIN:DAYLIGHT
TZOFFSETFROM:-0500
TZOFFSETTO:-0400
TZNAME:EDT
DTSTART:20270314T070000
END:DAYLIGHT
BEGIN:STANDARD
TZOFFSETFROM:-0400
TZOFFSETTO:-0500
TZNAME:EST
DTSTART:20271107T060000
END:STANDARD
END:VTIMEZONE
BEGIN:VEVENT
DTSTART;TZID=America/Detroit:20260420T164500
DTEND;TZID=America/Detroit:20260420T174500
DTSTAMP:20260420T062441
CREATED:20260123T002100Z
LAST-MODIFIED:20260123T002100Z
UID:10001707-1776703500-1776707100@rcms.mcgwebdevelopment.com
SUMMARY:ZUMBA Gold
DESCRIPTION:Need to shake off the stress? \nStep into happy at the Rogers City Senior Center. Join us for Zumba Gold is on Mondays and Thursdays at 4:45 p.m.
URL:https://rcms.mcgwebdevelopment.com/event/zumba-gold/2026-04-20/
LOCATION:Rogers City Area Senior & Community Center\, 131 Superior St\, Rogers City\, MI\, 49779\, United States
CATEGORIES:Events
ATTACH;FMTTYPE=image/webp:https://rcms.mcgwebdevelopment.com/wp-content/media/ZUMBA.webp
END:VEVENT
BEGIN:VEVENT
DTSTART;TZID=America/Detroit:20260420T174500
DTEND;TZID=America/Detroit:20260420T184500
DTSTAMP:20260420T062441
CREATED:20260122T223659Z
LAST-MODIFIED:20260122T224744Z
UID:10000084-1776707100-1776710700@rcms.mcgwebdevelopment.com
SUMMARY:ZUMBA
DESCRIPTION:Need to shake off the stress? \nStep into happy at the Rogers City Senior Center. Join us for ZUMBA on Mondays and Thursdays at 5:45 p.m.
URL:https://rcms.mcgwebdevelopment.com/event/zumba/2026-04-20/
LOCATION:Rogers City Area Senior & Community Center\, 131 Superior St\, Rogers City\, MI\, 49779\, United States
CATEGORIES:Events
ATTACH;FMTTYPE=image/webp:https://rcms.mcgwebdevelopment.com/wp-content/media/ZUMBA.webp
END:VEVENT
BEGIN:VEVENT
DTSTART;TZID=America/Detroit:20260420T180000
DTEND;TZID=America/Detroit:20260420T180000
DTSTAMP:20260420T062442
CREATED:20260122T234359Z
LAST-MODIFIED:20260122T234359Z
UID:10000592-1776708000-1776708000@rcms.mcgwebdevelopment.com
SUMMARY:Cornhole
DESCRIPTION:Head to the VFW Post 607 for Cornhole! It will be held every Monday during the winter months starting at 6 p.m. Cornhole will take place in the upstairs hall.
URL:https://rcms.mcgwebdevelopment.com/event/cornhole/2026-04-20/
LOCATION:VFW Post 607\, 1316 W 3rd St\, Rogers City\, 49779\, United States
CATEGORIES:Events
ATTACH;FMTTYPE=image/webp:https://rcms.mcgwebdevelopment.com/wp-content/media/Cornhole.webp
END:VEVENT
END:VCALENDAR